BEGIN:VCALENDAR
VERSION:2.0
PRODID:-//Baie-Saint-Paul Guide//NONSGML kigkonsult.se iCalcreator 2.30.10/
 /
CALSCALE:GREGORIAN
METHOD:PUBLISH
UID:aa61b9d1-f0bc-4dfa-aeca-27c902d621bb
X-WR-CALNAME:iCagenda
X-WR-CALDESC:Event Management Extension for Joomla!
X-WR-RELCALID:3E26604A-50F4-4449-8B3E-E4F4932D05B5
X-WR-TIMEZONE:America/Toronto
BEGIN:VTIMEZONE
TZID:America/Toronto
BEGIN:STANDARD
TZNAME:EST
DTSTART:20251102T020000
TZOFFSETFROM:-0400
TZOFFSETTO:-0500
RDATE:20261101T020000
END:STANDARD
BEGIN:DAYLIGHT
TZNAME:EDT
DTSTART:20260308T020000
TZOFFSETFROM:-0500
TZOFFSETTO:-0400
RDATE:20270314T020000
END:DAYLIGHT
END:VTIMEZONE
BEGIN:VEVENT
UID:67df75da-3c46-4cc5-bcfd-ba86cc685b63
DTSTAMP:20260419T172415Z
CATEGORIES:Vernissage
CLASS:PUBLIC
DESCRIPTION;ALTREP="CID:<FFFF__=0ABBE548DFE235B58f9e8a93d@coffeebean.com>":
 Un moment culturel inspirant vous attend à la Bibliothèque René-Richard à 
 l’occasion du vernissage de nouvelles expositions.\n Date : Vendredi 1er m
 ai 2026 Heure : 17 h Lieu : Bibliothèque René-Richard - Salle Pierre-Perra
 ult\n Venez découvrir l’exposition :COUP DE CŒURprésentée par la Corporati
 on lumière image de Charlevoix\nCette exposition met en lumière une sélect
 ion d’œuvres marquantes\, choisies avec sensibilité par des artistes et pa
 ssionnés d’image de la région. Une occasion unique de plonger dans des uni
 vers visuels riches\, touchants et inspirants.\n Exposition présentée jusq
 u’au 14 juin 2026\nQue vous soyez amateur d’art\, curieux ou simplement à 
 la recherche d’une belle sortie culturelle\, cet événement est pour vous!
 \n Événement gratuit – Bienvenue à toutes et à tous!
DTSTART:20260501T210000Z
DTEND:20260501T230000Z
GEO:+47.440632;-70.50795
LOCATION:Bibliothèque René-Richard
ORGANIZER:
SEQUENCE:1
SUMMARY:Vernissage - Corporation lumière image de Charlevoix
TRANSP:OPAQUE
URL:https://www.baiesaintpaulguide.com/evenements/vernissage-corporation-lu
 miere-image-de-charlevoix.html
END:VEVENT
END:VCALENDAR
