BEGIN:VCALENDAR
VERSION:2.0
PRODID:-//Baie-Saint-Paul Guide//NONSGML kigkonsult.se iCalcreator 2.30.10/
 /
CALSCALE:GREGORIAN
METHOD:PUBLISH
UID:55710049-511d-4b81-a09f-34cbf47a8b9d
X-WR-CALNAME:iCagenda
X-WR-CALDESC:Event Management Extension for Joomla!
X-WR-RELCALID:3E26604A-50F4-4449-8B3E-E4F4932D05B5
X-WR-TIMEZONE:America/Toronto
BEGIN:VTIMEZONE
TZID:America/Toronto
BEGIN:STANDARD
TZNAME:EST
DTSTART:20231105T020000
TZOFFSETFROM:-0400
TZOFFSETTO:-0500
RDATE:20241103T020000
RDATE:20251102T020000
END:STANDARD
BEGIN:DAYLIGHT
TZNAME:EDT
DTSTART:20240310T020000
TZOFFSETFROM:-0500
TZOFFSETTO:-0400
RDATE:20250309T020000
END:DAYLIGHT
END:VTIMEZONE
BEGIN:VEVENT
UID:12599688-bafb-4e04-a045-cb262dd77662
DTSTAMP:20260420T171229Z
CATEGORIES:Le Festif!
CLASS:PUBLIC
DESCRIPTION;ALTREP="CID:<FFFF__=0ABBE548DFE235B58f9e8a93d@coffeebean.com>":
 Découvrez PYPY lors d'un concert explosif au festival Le Festif! Ce groupe
  formé à Montréal par les esprits déjantés derrière CPC Gangbangs\, Red Ma
 ss et Duchess Says promet un thrash psych-punk superdope. Leur premier alb
 um 'Pagan Day' est une concoction démente de wah-wah sinistre\, de fuzz et
  de distorsion\, portée par les hurlements nécromantiques de la co-leadeur
  Annie-Claude Deschênes. Des rythmes disco survoltés à la manière du dance
  punk légendaire des 99 Records de NYC (ESG / Liquid Liquid) s'infiltrent 
 dans 'Daffodils'\, tandis que le pop frénétique de 'She’s Gone' rivalise a
 vec les titres les plus brûlants de Thee Oh Sees.\nNe manquez pas cette nu
 it de déchaînement musical avec PYPY à 1h du matin sur la Scène SiriusXM\,
  près de l'église. Les billets sont disponibles sur le site du festival Le
  Festif!\nBILLETS
DTSTART:20240720T050000Z
DTEND:20240720T060000Z
GEO:+47.440727;-70.506088
LOCATION:Scène SiriusXM
ORGANIZER:
SEQUENCE:1
SUMMARY:PYPY - Le Festif!
TRANSP:OPAQUE
URL:https://www.baiesaintpaulguide.com/en/festif-events/pypy-le-festif.html
END:VEVENT
END:VCALENDAR
