BEGIN:VCALENDAR
VERSION:2.0
PRODID:-//Baie-Saint-Paul Guide//NONSGML kigkonsult.se iCalcreator 2.30.10/
 /
CALSCALE:GREGORIAN
METHOD:PUBLISH
UID:0e4cab59-262a-417e-bdf7-901486dd74ee
X-WR-CALNAME:iCagenda
X-WR-CALDESC:Event Management Extension for Joomla!
X-WR-RELCALID:3E26604A-50F4-4449-8B3E-E4F4932D05B5
X-WR-TIMEZONE:America/Toronto
BEGIN:VTIMEZONE
TZID:America/Toronto
BEGIN:STANDARD
TZNAME:EST
DTSTART:20251102T020000
TZOFFSETFROM:-0400
TZOFFSETTO:-0500
RDATE:20261101T020000
RDATE:20271107T020000
END:STANDARD
BEGIN:DAYLIGHT
TZNAME:EDT
DTSTART:20260308T020000
TZOFFSETFROM:-0500
TZOFFSETTO:-0400
RDATE:20270314T020000
END:DAYLIGHT
END:VTIMEZONE
BEGIN:VEVENT
UID:1bf405ac-cfd9-45c7-bc8a-dddff249bbbc
DTSTAMP:20260419T154431Z
CATEGORIES:Soirée
CLASS:PUBLIC
DESCRIPTION;ALTREP="CID:<FFFF__=0ABBE548DFE235B58f9e8a93d@coffeebean.com>":
 Joignez-nous pour la troisième soirée l’édition printemps 2026 de Champs L
 ibres!\nLe samedi 9 mai\, découvrez le menu créé par Raphaël G. Théberge &
 amp\; Cablou Pouliot du restaurant Courtbouillon.\nRaphaël G. Théberge et 
 Cablou Pouliot\, duo derrière le Courtbouillon\, proposent une cuisine cha
 leureuse et conviviale\, où les saveurs cajuns rencontrent la fraîcheur de
 s produits québécois. Inspirés par les traditions du Bayou\, ils revisiten
 t des classiques colorés et généreux à partir d’ingrédients locaux et de s
 aison. Leur approche sincère et gourmande met de l’avant une cuisine acces
 sible\, portée par le plaisir de partager.\n Tarif: 100$ + taxes et servic
 e par personne Accord mets-vins: disponible en supplément à 100$ + taxes p
 ar personne Réservations: en ligne ou par téléphone via nos concierges — l
 es places sont limitées!\nRéserver: https://booking.libroreserve.com/.../Q
 C015100180697/seat...
DTSTART:20260509T124400Z
DTEND:20260509T233000Z
GEO:+47.435905;-70.504669
LOCATION:Hôtel & Spa Le Germain Charlevoix
ORGANIZER:
SEQUENCE:1
SUMMARY:Champs Libres : Raphaël G. Théberge & Caillou Pouliot du restaurant
  Courtbouillon
TRANSP:OPAQUE
URL:https://www.baiesaintpaulguide.com/en/events/champs-libres-raphael-g-th
 eberge-caillou-pouliot-du-restaurant-courtbouillon.html
END:VEVENT
END:VCALENDAR
