BEGIN:VCALENDAR
VERSION:2.0
PRODID:-//Baie-Saint-Paul Guide//NONSGML kigkonsult.se iCalcreator 2.30.10/
 /
CALSCALE:GREGORIAN
METHOD:PUBLISH
UID:bfa2c8da-720f-4164-bb68-7a9075d2dfee
X-WR-CALNAME:iCagenda
X-WR-CALDESC:Event Management Extension for Joomla!
X-WR-RELCALID:3E26604A-50F4-4449-8B3E-E4F4932D05B5
X-WR-TIMEZONE:America/Toronto
BEGIN:VTIMEZONE
TZID:America/Toronto
BEGIN:STANDARD
TZNAME:EST
DTSTART:20231105T020000
TZOFFSETFROM:-0400
TZOFFSETTO:-0500
RDATE:20241103T020000
RDATE:20251102T020000
END:STANDARD
BEGIN:DAYLIGHT
TZNAME:EDT
DTSTART:20240310T020000
TZOFFSETFROM:-0500
TZOFFSETTO:-0400
RDATE:20250309T020000
END:DAYLIGHT
END:VTIMEZONE
BEGIN:VEVENT
UID:f265287e-3485-46ef-855b-8bf5902b9c4f
DTSTAMP:20260423T093829Z
CATEGORIES:Symposium de Baie-Saint-Paul
CLASS:PUBLIC
DESCRIPTION;ALTREP="CID:<FFFF__=0ABBE548DFE235B58f9e8a93d@coffeebean.com>":
 Des médiatrices sont sur place pendant les heures d'ouverture du Symposium
  (du mercredi au dimanche de midi à 17h) pour vous accompagner dans vos re
 ncontres avec les artistes !
DTSTART:20240802T160000Z
DTEND:20240802T210000Z
GEO:+47.440132;-70.50515
LOCATION:Symposium international d'art contemporain
ORGANIZER:
SEQUENCE:1
SUMMARY:Visite avec des médiatrices
TRANSP:OPAQUE
URL:https://www.baiesaintpaulguide.com/en/component/icagenda/visite-avec-de
 s-mediatrices/2024-08-02-12-00.html?Itemid=102
END:VEVENT
END:VCALENDAR
