BEGIN:VCALENDAR
VERSION:2.0
PRODID:-//Baie-Saint-Paul Guide//NONSGML kigkonsult.se iCalcreator 2.30.10/
 /
CALSCALE:GREGORIAN
METHOD:PUBLISH
UID:c5a0763b-6875-4c78-973e-fdc4133b18b4
X-WR-CALNAME:iCagenda
X-WR-CALDESC:Event Management Extension for Joomla!
X-WR-RELCALID:3E26604A-50F4-4449-8B3E-E4F4932D05B5
X-WR-TIMEZONE:America/Toronto
BEGIN:VTIMEZONE
TZID:America/Toronto
BEGIN:STANDARD
TZNAME:EST
DTSTART:20241103T020000
TZOFFSETFROM:-0400
TZOFFSETTO:-0500
RDATE:20251102T020000
END:STANDARD
BEGIN:DAYLIGHT
TZNAME:EDT
DTSTART:20240310T020000
TZOFFSETFROM:-0500
TZOFFSETTO:-0400
RDATE:20250309T020000
RDATE:20260308T020000
END:DAYLIGHT
END:VTIMEZONE
BEGIN:VEVENT
UID:5c22335f-f6b7-45bc-af6d-f9d96c20bc10
DTSTAMP:20260423T045421Z
CATEGORIES:Musée d'art contemporain de Baie-Saint-Paul
CLASS:PUBLIC
DESCRIPTION;ALTREP="CID:<FFFF__=0ABBE548DFE235B58f9e8a93d@coffeebean.com>":
 Invitation au vernissage de nos nouvelles expositions\nLe Vigile - Demian 
 Flores et Alberto Castro Lenero\nDemian Flores et Alberto Castro Lenero ex
 plorent de manière unique les frontières entre abstraction et figuration. 
 À travers leurs œuvres\, ils interrogent et redéfinissent ces catégories\,
  créant un dialogue enrichissant qui résonne dans le contexte de l’art con
 temporain au Mexique. Cette exposition est le fruit d’une rencontre collab
 orative née d’une résidence à Baie-Saint-Paul au printemps 2024.\nNouvelle
 s Acquisitions – Abstractions\nL’équipe de conservation présente des œuvre
 s marquantes d’artistes de renom\, telles que Judit Reigl\, Guido Molinari
 \, Jean-Paul Jérôme et Francine Simonin\, récemment intégrées à notre coll
 ection.
DTSTART:20241109T190000Z
DTEND:20241109T220000Z
GEO:+47.440292;-70.505592
LOCATION:Musée d'art contemporain de Baie-Saint-Paul
ORGANIZER:
SEQUENCE:1
SUMMARY:Vernissage de nos nouvelles expositions
TRANSP:OPAQUE
URL:https://www.baiesaintpaulguide.com/en/component/icagenda/vernissage-de-
 nos-nouvelles-expositions.html?Itemid=102
END:VEVENT
END:VCALENDAR
