BEGIN:VCALENDAR
VERSION:2.0
PRODID:-//Baie-Saint-Paul Guide//NONSGML kigkonsult.se iCalcreator 2.30.10/
 /
CALSCALE:GREGORIAN
METHOD:PUBLISH
UID:323cc5c9-cf37-417d-9cd3-ff41d90b842c
X-WR-CALNAME:iCagenda
X-WR-CALDESC:Event Management Extension for Joomla!
X-WR-RELCALID:3E26604A-50F4-4449-8B3E-E4F4932D05B5
X-WR-TIMEZONE:America/Toronto
BEGIN:VTIMEZONE
TZID:America/Toronto
BEGIN:STANDARD
TZNAME:EST
DTSTART:20241103T020000
TZOFFSETFROM:-0400
TZOFFSETTO:-0500
RDATE:20251102T020000
END:STANDARD
BEGIN:DAYLIGHT
TZNAME:EDT
DTSTART:20240310T020000
TZOFFSETFROM:-0500
TZOFFSETTO:-0400
RDATE:20250309T020000
RDATE:20260308T020000
END:DAYLIGHT
END:VTIMEZONE
BEGIN:VEVENT
UID:a10bc87a-060c-424f-8052-60b2b5595df9
DTSTAMP:20260423T031037Z
CATEGORIES:Marché de Noël de Baie-Saint-Paul
CLASS:PUBLIC
DESCRIPTION;ALTREP="CID:<FFFF__=0ABBE548DFE235B58f9e8a93d@coffeebean.com>":
 Le tournoi de Hockey Bottine est de retour pour le plaisir de tous !! \nUn
 e présentation de la MRC de Charlevoix\, Hyundai Jean-Roch Thibeault en co
 llaboration avec la Microbrasserie de Charlevoix.\nLes équipes s'affronter
 ont dans notre patinoire de hockey bottine dans la cour de la Microbrasser
 ie le St-Pub. Le tournoi amical comportera entre 8 et 12 équipes au maximu
 m. Les matchs se feront en format 3 contre 3 avec 1 next dans chaque équip
 e avec aucun gardiens.\nRÉSERVÉ AU 14 ans et plus!\nInscrivez votre équipe
  de 4 personnes: https://forms.gle/616X4PFASJ42r7bm6\nDÉROULEMENT:\n2 péri
 odes de 10 minutesChrono roulant (non-stop)1 passe avant de tirer au but o
 bligatoire3 joueurs sur la patinoire et 1 joueur sur le banc14 ans et plus
 \nGRATUIT et OUVERT À TOUS ET TOUTES\nÀ GAGNER : un Pichet de bières de la
  Microbrasserie pour l'équipe pour les 18 ans et plus de l'équipe !\nLe re
 sponsable du Tournoi\, Pierre Larouche\, communiquera avec le responsable 
 de l'équipe la semaine avant pour indiquer l'ordre de passages des équipes
 . Veuillez être disponible pour toute la durée de la journée du 7 décembre
 .Pour toutes questions\, écrivez-nous à evenements@agabsp.com
DTSTART:20241207T160000Z
DTEND:20241207T210000Z
GEO:00;0
LOCATION:Restaurant le Saint-Pub\, MicroBrasserie
ORGANIZER:
SEQUENCE:1
SUMMARY:Tournoi de Hockey Bottine
TRANSP:OPAQUE
URL:https://www.baiesaintpaulguide.com/en/component/icagenda/tournoi-de-hoc
 key-bottine.html?Itemid=102
END:VEVENT
END:VCALENDAR
