BEGIN:VCALENDAR
VERSION:2.0
PRODID:-//Baie-Saint-Paul Guide//NONSGML kigkonsult.se iCalcreator 2.30.10/
 /
CALSCALE:GREGORIAN
METHOD:PUBLISH
UID:909f4a07-abf1-4faa-9cee-bce73eb170a2
X-WR-CALNAME:iCagenda
X-WR-CALDESC:Event Management Extension for Joomla!
X-WR-RELCALID:3E26604A-50F4-4449-8B3E-E4F4932D05B5
X-WR-TIMEZONE:America/Toronto
BEGIN:VTIMEZONE
TZID:America/Toronto
BEGIN:STANDARD
TZNAME:EST
DTSTART:20241103T020000
TZOFFSETFROM:-0400
TZOFFSETTO:-0500
RDATE:20251102T020000
RDATE:20261101T020000
END:STANDARD
BEGIN:DAYLIGHT
TZNAME:EDT
DTSTART:20250309T020000
TZOFFSETFROM:-0500
TZOFFSETTO:-0400
RDATE:20260308T020000
END:DAYLIGHT
END:VTIMEZONE
BEGIN:VEVENT
UID:5828534d-ba9d-4b66-b298-8d58f8dbd31d
DTSTAMP:20260422T151201Z
CATEGORIES:Agrotours
CLASS:PUBLIC
DESCRIPTION;ALTREP="CID:<FFFF__=0ABBE548DFE235B58f9e8a93d@coffeebean.com>":
 Durée : 4hHeure de départ : 11:00Point de rencontre : Hôtel &amp\; Spa Le 
 Germain Charlevoix\, 50 Rue de la Ferme\, Baie-Saint-Paul\, QCHeure de ret
 our approximative : 14:30Prix par personne : 120$ tx incluses\nRevivez la 
 magie du téléroman 'Le Temps d'une Paix' et embarquez pour une aventure no
 stalgique au cœur de Charlevoix avec notre tour exclusif aux passionnés de
  la célèbre télésérie québécoise.\nRejoignez-nous pour une journée immersi
 ve où vous découvrirez les secrets et les merveilles derrière cette saga q
 ui a marqué le Québec des années 80.\nL'expérience comprend :- L'animation
  par un guide sympathique- Le transport confortable dans la région- La vis
 ite d'attraits et de lieux de tournage du téléroman- Des anecdotes et des 
 histoires- Bien du plaisir\nNotre guide dynamique vous révèlera les dessou
 s de la série\, les histoires réelles derrière les personnages fictifs ain
 si que le contexte historique des scènes emblématiques.\nPréparez-vous à v
 ivre des moments mémorables et à partager des rires et des émotions avec d
 'autres fans.\nEn BONUS :- Un sac réutilisable Agrotours Charlevoix pour d
 époser et emporter vos achats locaux.- Une petite surprise sucrée.\nNOS AR
 RÊTS- Garage de Joseph-Arthur Lavoie- Église de Saint-Iréné (scène extérie
 ur de la télésérie)- Presbytère du Curé Chouinard- Maison et Ferme de Rose
 -Anna\nMinimum de 24 personnes.\nCRÉDIT :Inspiré de l’émission Le temps d’
 une paix produite et diffusée parRadio-Canada.Auteur: Pierre Gauvreau
DTSTART:20250711T123400Z
DTEND:20250711T123400Z
GEO:+47.435905;-70.504669
LOCATION:Agrotours Charlevoix
ORGANIZER:
SEQUENCE:1
SUMMARY:Tour Thématique - Le Temps d’une Paix
TRANSP:OPAQUE
URL:https://www.baiesaintpaulguide.com/en/component/icagenda/tour-thematiqu
 e-le-temps-dune-paix/2025-07-11-08-34.html?Itemid=102
END:VEVENT
END:VCALENDAR
