BEGIN:VCALENDAR
VERSION:2.0
PRODID:-//Baie-Saint-Paul Guide//NONSGML kigkonsult.se iCalcreator 2.30.10/
 /
CALSCALE:GREGORIAN
METHOD:PUBLISH
UID:5a94b71c-81a9-43ef-a86a-337a02bf3070
X-WR-CALNAME:iCagenda
X-WR-CALDESC:Event Management Extension for Joomla!
X-WR-RELCALID:3E26604A-50F4-4449-8B3E-E4F4932D05B5
X-WR-TIMEZONE:America/Toronto
BEGIN:VTIMEZONE
TZID:America/Toronto
BEGIN:STANDARD
TZNAME:EST
DTSTART:20231105T020000
TZOFFSETFROM:-0400
TZOFFSETTO:-0500
RDATE:20241103T020000
RDATE:20251102T020000
END:STANDARD
BEGIN:DAYLIGHT
TZNAME:EDT
DTSTART:20240310T020000
TZOFFSETFROM:-0500
TZOFFSETTO:-0400
RDATE:20250309T020000
RDATE:20260308T020000
END:DAYLIGHT
END:VTIMEZONE
BEGIN:VEVENT
UID:57d012d2-74d0-4ad5-8f19-f9859b1e9720
DTSTAMP:20260423T065057Z
CATEGORIES:Soirée
CLASS:PUBLIC
DESCRIPTION;ALTREP="CID:<FFFF__=0ABBE548DFE235B58f9e8a93d@coffeebean.com>":
 40e anniversaire du Club Bon Cœur de Charlevoix\nCocktail &amp\; petites b
 ouchées\, hommage aux 40 ans d’expertise en prévention de la santé du Club
  et spectacle/témoignage de la chanteuse Claudette Dion (sœur de Céline Di
 on).\n \nTarif : 40$/billet\nContactez-nous pour vous procurez les billets
  à info@clubboncoeur.com ou au 418-240-9999\nEndroit : Pavillon annexe au 
 Musée d’art contemporain au 23 rue Ambroise-Fafard 
DTSTART:20241005T223000Z
DTEND:20241006T010000Z
GEO:+47.440292;-70.505592
LOCATION:Musée d’art contemporain
ORGANIZER:
SEQUENCE:1
SUMMARY:Soirée hommage aux 40 ans du Club Bon Coeur de Charlevoix
TRANSP:OPAQUE
URL:https://www.baiesaintpaulguide.com/en/component/icagenda/soiree-hommage
 -aux-40-ans-du-club-bon-coeur-de-charlevoix.html?Itemid=102
END:VEVENT
END:VCALENDAR
