BEGIN:VCALENDAR
VERSION:2.0
PRODID:-//Baie-Saint-Paul Guide//NONSGML kigkonsult.se iCalcreator 2.30.10/
 /
CALSCALE:GREGORIAN
METHOD:PUBLISH
UID:3a0a1ff3-1e6a-4b12-bcad-2afbdb4ccb18
X-WR-CALNAME:iCagenda
X-WR-CALDESC:Event Management Extension for Joomla!
X-WR-RELCALID:3E26604A-50F4-4449-8B3E-E4F4932D05B5
X-WR-TIMEZONE:America/Toronto
BEGIN:VTIMEZONE
TZID:America/Toronto
BEGIN:STANDARD
TZNAME:EST
DTSTART:20241103T020000
TZOFFSETFROM:-0400
TZOFFSETTO:-0500
RDATE:20251102T020000
END:STANDARD
BEGIN:DAYLIGHT
TZNAME:EDT
DTSTART:20240310T020000
TZOFFSETFROM:-0500
TZOFFSETTO:-0400
RDATE:20250309T020000
RDATE:20260308T020000
END:DAYLIGHT
END:VTIMEZONE
BEGIN:VEVENT
UID:61ec84ec-6df9-4eea-a936-6ba97252e83c
DTSTAMP:20260423T030614Z
CATEGORIES:Mousse Café
CLASS:PUBLIC
DESCRIPTION;ALTREP="CID:<FFFF__=0ABBE548DFE235B58f9e8a93d@coffeebean.com>":
 Dernière soirée de jeux de l'année et évènement spin the wheel!\nLe vendre
 di 13 décembre\, rejoignez-nous de 17h à 23h pour participer à notre derni
 ère soirée de jeux de l'année et pour faire le plein de vos achats des Fêt
 es!\nLouis\, notre expert en jeux\, sera là pour vous guider dans votre ma
 gasinage et pour animer la soirée (il est excellent en multi-tasking). Et 
 en prime\, tentez votre chance avec nos rabais «Spin the Wheel» pour gagne
 r entre 10 et 30% sur vos achats! Les rabais avec la roue de la chance se 
 poursuiveront le lendemain (14 décembre) jusqu'à 16h!\nOn vous prépare une
  ambiance festive avec beaucoup de plaisir\, de la stratégie et des surpri
 ses tout au long de la soirée\, y compris des cadeaux à gagner grâce à not
 re collaboration avec le Père Noël!\nProfitez d'un choix de boissons alcoo
 lisées ou non pour accompagner vos parties et d'un petit quelque chose à g
 rignoter.\nTarifs:5$ (2$ pour les 12 ans et moins)Carte annuelle avantageu
 se pour les&nbsp\;assidu.es&nbsp\;- 40$Les enfants doivent être accompagné
 s par au moins un adulte qui joue aussi aux jeux.\nLa réservation est fort
 ement suggérée\, via le lien suivant:&nbsp\;https://bit.ly/3JuWppd\nIl ser
 a aussi possible de se joindre spontanément à la soirée s’il reste de la p
 lace.\nPartagez cet événement et invitez vos amis et votre famille! On a h
 âte de vous voir le 13 décembre!
DTSTART:20241213T220000Z
DTEND:20241214T040000Z
GEO:+47.438477;-70.506615
LOCATION:Mousse Café - coopérative de solidarité
ORGANIZER:
SEQUENCE:1
SUMMARY:Soirée de jeux
TRANSP:OPAQUE
URL:https://www.baiesaintpaulguide.com/en/component/icagenda/soiree-de-jeux
 .html?Itemid=102
END:VEVENT
END:VCALENDAR
