BEGIN:VCALENDAR
VERSION:2.0
PRODID:-//Baie-Saint-Paul Guide//NONSGML kigkonsult.se iCalcreator 2.30.10/
 /
CALSCALE:GREGORIAN
METHOD:PUBLISH
UID:5de214cc-4b1f-450e-8288-a6a170ade59e
X-WR-CALNAME:iCagenda
X-WR-CALDESC:Event Management Extension for Joomla!
X-WR-RELCALID:3E26604A-50F4-4449-8B3E-E4F4932D05B5
X-WR-TIMEZONE:America/Toronto
BEGIN:VTIMEZONE
TZID:America/Toronto
BEGIN:STANDARD
TZNAME:EST
DTSTART:20241103T020000
TZOFFSETFROM:-0400
TZOFFSETTO:-0500
RDATE:20251102T020000
END:STANDARD
BEGIN:DAYLIGHT
TZNAME:EDT
DTSTART:20240310T020000
TZOFFSETFROM:-0500
TZOFFSETTO:-0400
RDATE:20250309T020000
RDATE:20260308T020000
END:DAYLIGHT
END:VTIMEZONE
BEGIN:VEVENT
UID:11a3fa51-33da-4b25-abdc-64d0182bbc5b
DTSTAMP:20260423T030915Z
CATEGORIES:Musée d'art contemporain de Baie-Saint-Paul
CLASS:PUBLIC
DESCRIPTION;ALTREP="CID:<FFFF__=0ABBE548DFE235B58f9e8a93d@coffeebean.com>":
 Pour notre match de mi-saison\, on offre un cadeau à notre arbitre Jean-Th
 omas : on ne fait que de TRÈS longues impros !\nBillets :&nbsp\;https://ww
 w.zeffy.com/.../ticketing/match-special-noel--2024\nLors de cette soirée\,
  qui n'est pas un match\, les joueurs de la LIB se livrerons à des perform
 ances d'improvisation théâtrale de longue haleine\, sans thème ni cocus. E
 n première partie on vous présente un tout nouveau format\, le Grand tour\
 , appris grâce à nos formations de l'automne. En deuxième partie\, c'est l
 e retour du conte de Noël déjanté !\nATTENTION: Le coût du billet est de 1
 0$ pour les 14 ans et plus\, MAIS si tu souhaite encourager la LIB de faço
 n plus significative sache que tu peux devenir membre du Fan Club pour 20$
 (&nbsp\;https://www.zeffy.com/.../5baf56a1-113e-4ac6-846c...&nbsp\;) et av
 oir accès gratuit aux matchs spéciaux et plus de d'autres avantages comme:
 \n- Écrire un thème pour la saison régulière- Avoir une consommation gratu
 ite lors des événements spéciaux- Recevoir le macaron officiel du FanClub!
 \nPour simplement te procurer un billet\, clique sur le lien de l'événemen
 t ou rends-toi ici :&nbsp\;https://www.zeffy.com/.../ticketing/match-speci
 al-noel--2024
DTSTART:20241220T010000Z
DTEND:20241220T030000Z
GEO:+47.440292;-70.505592
LOCATION:Parvis du Musée d'art contemporain de Baie-Saint-Paul
ORGANIZER:
SEQUENCE:1
SUMMARY:Show spécial des fêtes de la LIB - Formats d’impros longues !
TRANSP:OPAQUE
URL:https://www.baiesaintpaulguide.com/en/component/icagenda/show-special-d
 es-fetes-de-la-lib-formats-dimpros-longues.html?Itemid=102
END:VEVENT
END:VCALENDAR
