BEGIN:VCALENDAR
VERSION:2.0
PRODID:-//Baie-Saint-Paul Guide//NONSGML kigkonsult.se iCalcreator 2.30.10/
 /
CALSCALE:GREGORIAN
METHOD:PUBLISH
UID:c23c9945-4f1c-46da-a799-3d78413d649f
X-WR-CALNAME:iCagenda
X-WR-CALDESC:Event Management Extension for Joomla!
X-WR-RELCALID:3E26604A-50F4-4449-8B3E-E4F4932D05B5
X-WR-TIMEZONE:America/Toronto
BEGIN:VTIMEZONE
TZID:America/Toronto
BEGIN:STANDARD
TZNAME:EST
DTSTART:20241103T020000
TZOFFSETFROM:-0400
TZOFFSETTO:-0500
RDATE:20251102T020000
END:STANDARD
BEGIN:DAYLIGHT
TZNAME:EDT
DTSTART:20240310T020000
TZOFFSETFROM:-0500
TZOFFSETTO:-0400
RDATE:20250309T020000
RDATE:20260308T020000
END:DAYLIGHT
END:VTIMEZONE
BEGIN:VEVENT
UID:6b55e9be-e3bb-4613-8b73-f26a204f469e
DTSTAMP:20260423T030830Z
CATEGORIES:Bistro des Balcons
CLASS:PUBLIC
DESCRIPTION;ALTREP="CID:<FFFF__=0ABBE548DFE235B58f9e8a93d@coffeebean.com>":
 Le Réveillon aux Balcons ça se fête en GRAND&nbsp\;\nVenez célébrer l'arri
 vée de la nouvelle année avec nous dans une ambiance conviviale et chaleur
 euse où toutes les générations sont les bienvenues !&nbsp\;\nÀ partir de 2
 1h00\, nous aurons des DJ invités qui assureront l'ambiance festive et d'a
 utres surprises!&nbsp\;\nNous avons le plaisir d'accueillir CYR aux platin
 es comme tête d'affiche de 23H à 2H AM. On vous promet qu'il fera monter l
 a température en un claquement de doigts&nbsp\;\nLa soirée est GRATUITE &a
 mp\; ouverte à toustes&nbsp\;\nGreyez-vous de vos plus belles paillettes O
 U de ce qui vous fait le plus de bien à porter\, on veut vous voir sourire
  &amp\; briller!
DTSTART:20250101T020000Z
DTEND:20250101T045900Z
GEO:+47.438202;-70.505577
LOCATION:Auberge & Bistro des Balcons
ORGANIZER:
SEQUENCE:1
SUMMARY:Réveillon au Bistro des Balcons
TRANSP:OPAQUE
URL:https://www.baiesaintpaulguide.com/en/component/icagenda/reveillon-au-b
 istro-des-balcons.html?Itemid=102
END:VEVENT
END:VCALENDAR
