BEGIN:VCALENDAR
VERSION:2.0
PRODID:-//Baie-Saint-Paul Guide//NONSGML kigkonsult.se iCalcreator 2.30.10/
 /
CALSCALE:GREGORIAN
METHOD:PUBLISH
UID:2115da8b-19f5-427f-8225-51c8a29084f3
X-WR-CALNAME:iCagenda
X-WR-CALDESC:Event Management Extension for Joomla!
X-WR-RELCALID:3E26604A-50F4-4449-8B3E-E4F4932D05B5
X-WR-TIMEZONE:America/Toronto
BEGIN:VTIMEZONE
TZID:America/Toronto
BEGIN:STANDARD
TZNAME:EST
DTSTART:20241103T020000
TZOFFSETFROM:-0400
TZOFFSETTO:-0500
RDATE:20251102T020000
END:STANDARD
BEGIN:DAYLIGHT
TZNAME:EDT
DTSTART:20240310T020000
TZOFFSETFROM:-0500
TZOFFSETTO:-0400
RDATE:20250309T020000
RDATE:20260308T020000
END:DAYLIGHT
END:VTIMEZONE
BEGIN:VEVENT
UID:87a633d1-93a4-42b3-abc0-4da9b8a7e9e9
DTSTAMP:20260423T045339Z
CATEGORIES:Bistro des Balcons
CLASS:PUBLIC
DESCRIPTION;ALTREP="CID:<FFFF__=0ABBE548DFE235B58f9e8a93d@coffeebean.com>":
 Reno McCarthy Indie\, Rock Samedi 16 novembre // 20h00 Contributions volon
 taires // Bienvenue à toustes !\nReno McCarthy est aussi créatif que proli
 fique. Au cours des quatre dernières années\, il a fait paraître deux albu
 ms\, deux EP et plusieurs extraits qui ont tous été très bien reçus par le
  public\, la critique et ses pairs. Si les chansons indie rock de l’artist
 e montréalais brillent sur scène grâce à ses prouesses vocales et guitaris
 tiques\, son talent remarquable en studio saute aux oreilles.\nLe réalisat
 eur multi-instrumentiste y façonne des univers sonores uniques et accroche
 urs révélant un sentiment d’anxiété oscillant entre l’impuissance et l’act
 ion. La sortie de « Déjà »\, son troisième album et premier en français\, 
 est prévue pour octobre 2024.
DTSTART:20241117T010000Z
DTEND:20241117T030000Z
GEO:+47.438202;-70.505577
LOCATION:Auberge & Bistro des Balcons
ORGANIZER:
SEQUENCE:1
SUMMARY:Reno McCarthy au Bistro des Balcons
TRANSP:OPAQUE
URL:https://www.baiesaintpaulguide.com/en/component/icagenda/reno-mccarthy-
 au-bistro-des-balcons.html?Itemid=102
END:VEVENT
END:VCALENDAR
