BEGIN:VCALENDAR
VERSION:2.0
PRODID:-//Baie-Saint-Paul Guide//NONSGML kigkonsult.se iCalcreator 2.30.10/
 /
CALSCALE:GREGORIAN
METHOD:PUBLISH
UID:64987300-1477-4dd5-af1c-5a1ce151a0d6
X-WR-CALNAME:iCagenda
X-WR-CALDESC:Event Management Extension for Joomla!
X-WR-RELCALID:3E26604A-50F4-4449-8B3E-E4F4932D05B5
X-WR-TIMEZONE:America/Toronto
BEGIN:VTIMEZONE
TZID:America/Toronto
BEGIN:STANDARD
TZNAME:EST
DTSTART:20231105T020000
TZOFFSETFROM:-0400
TZOFFSETTO:-0500
RDATE:20241103T020000
RDATE:20251102T020000
END:STANDARD
BEGIN:DAYLIGHT
TZNAME:EDT
DTSTART:20240310T020000
TZOFFSETFROM:-0500
TZOFFSETTO:-0400
RDATE:20250309T020000
END:DAYLIGHT
END:VTIMEZONE
BEGIN:VEVENT
UID:abc3aaf9-c0a5-4418-90bd-a355b33aa816
DTSTAMP:20260423T093514Z
CATEGORIES:Rencontre
CLASS:PUBLIC
DESCRIPTION;ALTREP="CID:<FFFF__=0ABBE548DFE235B58f9e8a93d@coffeebean.com>":
 Pour les amateurs de randonnée\, Le Club Bon Cœur de Charlevoix a le plais
 ir de vous annoncer l'ajout d'une randonnée/mois durant tout l'été! Ces ra
 ndonnées auront lieu chaque 1er mercredi du mois. Les randonnées seront do
 nc les 3 juillet et 7 août. Si la demande est forte\, il est possible que 
 nous ajoutions des dates et des destinations.\nLes départs se feront de la
  porte 14 à Maison Mère à 10h30 à chaque fois.\nLa randonnée ainsi que son
  niveau de difficulté sera annoncé dans les 2 semaines qui précèdent la ra
 ndonnée. Gratuit pour les membres.\nPour la 1ère randonnée\, nous ferons u
 n tronçon de Louise Gasnier\, soit du km 3 au km 7 en aller-retour. Cette 
 randonnée est de niveau débutant-intermédiaire et a un dénivelé d'environ 
 +300m et - 200m à l'aller\, l'inverse au retour.\n***Confirmez nous votre 
 présence le plus tôt possible à&nbsp\;clubboncoeur@gmail.com&nbsp\;afin qu
 e nous puissions organiser les déplacements! Si l'activité est très popula
 ire\, il est possible que nous formions 2 départs. Au plaisir de vous voir
  dans le bois!***\nHabillez vous en vêtements confortables et ayez votre s
 ourire avec vous!&nbsp\;&nbsp\;Nous prendrons une pause pour le dîner\, do
 nc n'oubliez pas d'amener votre lunch dans votre sac à dos!\nLieu de rende
 z-vous : Près de la porte 14 à Maison mère pour organiser le covoiturage e
 t un départ à 10h30.
DTSTART:20240807T143000Z
DTEND:20240807T163000Z
GEO:+47.438869;-70.506317
LOCATION:Maison Mère
ORGANIZER:
SEQUENCE:1
SUMMARY:Randonnée estivale 
TRANSP:OPAQUE
URL:https://www.baiesaintpaulguide.com/en/component/icagenda/randonnee-esti
 vale-2.html?Itemid=102
END:VEVENT
END:VCALENDAR
