BEGIN:VCALENDAR
VERSION:2.0
PRODID:-//Baie-Saint-Paul Guide//NONSGML kigkonsult.se iCalcreator 2.30.10/
 /
CALSCALE:GREGORIAN
METHOD:PUBLISH
UID:05f71103-cf7a-4ef9-a165-02bea44ab2e5
X-WR-CALNAME:iCagenda
X-WR-CALDESC:Event Management Extension for Joomla!
X-WR-RELCALID:3E26604A-50F4-4449-8B3E-E4F4932D05B5
X-WR-TIMEZONE:America/Toronto
BEGIN:VTIMEZONE
TZID:America/Toronto
BEGIN:STANDARD
TZNAME:EST
DTSTART:20241103T020000
TZOFFSETFROM:-0400
TZOFFSETTO:-0500
RDATE:20251102T020000
END:STANDARD
BEGIN:DAYLIGHT
TZNAME:EDT
DTSTART:20240310T020000
TZOFFSETFROM:-0500
TZOFFSETTO:-0400
RDATE:20250309T020000
RDATE:20260308T020000
END:DAYLIGHT
END:VTIMEZONE
BEGIN:VEVENT
UID:8130c68f-3eb0-4419-9f3f-c17cbea5322f
DTSTAMP:20260423T030650Z
CATEGORIES:Musée d'art contemporain de Baie-Saint-Paul
CLASS:PUBLIC
DESCRIPTION;ALTREP="CID:<FFFF__=0ABBE548DFE235B58f9e8a93d@coffeebean.com>":
 Cet automne\, le MACBSP vous présente gratuitement des documentaires sur l
 ’art\, en collaboration avec le FIFA (Festival international des films sur
  l’art)\nPour ce troisième film de la série\, nous présentons La suite can
 adienne\, un documentaire du réalisateur Olivier Godin. En 1958\, Suite ca
 nadienne\, pièce maintenant considérée comme fondatrice des Grands Ballets
  Canadiens\, passe en télédiffusion lors de l'heure du concert à Radio-Can
 ada. Plus de cinquante ans plus tard\, une troupe s'aventure à rendre homm
 age à l'œuvre sous un angle décolonial et introspectif\, s'interrogeant su
 r les notions d'identité nationale à travers la danse. Olivier Godin s'imm
 erge dans le quotidien de leurs répétitions et intègre un élément d'hybrid
 ité entre le documentaire et la fiction en redonnant vie à Ludmilla Chiria
 eff\, chorégraphe originale de la Suite canadienne décédée en 1996. La réa
 lité emprunte ainsi aux capacités fabriquées du cinéma\, soulignant alors 
 le potentiel ludique et réflexif de l'art sous toutes ses formes.\nLieu : 
 Pavillon du MACBSP (derrière le musée)Tarif : GratuitDurée : 68 minutes\nP
 our plus d’informations sur le film : https://www.onf.ca/.../graver-lhomme
 -arret-sur-pierre.../ 
DTSTART:20241212T000000Z
DTEND:20241212T010800Z
GEO:+47.440292;-70.505592
LOCATION:Musée d'art contemporain de Baie-Saint-Paul
ORGANIZER:
SEQUENCE:1
SUMMARY:Projection - La suite canadienne
TRANSP:OPAQUE
URL:https://www.baiesaintpaulguide.com/en/component/icagenda/projection-la-
 suite-canadienne.html?Itemid=102
END:VEVENT
END:VCALENDAR
