BEGIN:VCALENDAR
VERSION:2.0
PRODID:-//Baie-Saint-Paul Guide//NONSGML kigkonsult.se iCalcreator 2.30.10/
 /
CALSCALE:GREGORIAN
METHOD:PUBLISH
UID:7a6a931f-8b30-4673-9faf-72b187c72d98
X-WR-CALNAME:iCagenda
X-WR-CALDESC:Event Management Extension for Joomla!
X-WR-RELCALID:3E26604A-50F4-4449-8B3E-E4F4932D05B5
X-WR-TIMEZONE:America/Toronto
BEGIN:VTIMEZONE
TZID:America/Toronto
BEGIN:STANDARD
TZNAME:EST
DTSTART:20241103T020000
TZOFFSETFROM:-0400
TZOFFSETTO:-0500
RDATE:20251102T020000
END:STANDARD
BEGIN:DAYLIGHT
TZNAME:EDT
DTSTART:20240310T020000
TZOFFSETFROM:-0500
TZOFFSETTO:-0400
RDATE:20250309T020000
RDATE:20260308T020000
END:DAYLIGHT
END:VTIMEZONE
BEGIN:VEVENT
UID:71f152d7-0fe9-41ed-8fbc-a7adbd8c9fc6
DTSTAMP:20260423T030459Z
CATEGORIES:Spectacle
CLASS:PUBLIC
DESCRIPTION;ALTREP="CID:<FFFF__=0ABBE548DFE235B58f9e8a93d@coffeebean.com>":
 La Ligue d'improvisation de Baie-Saint-Paul vous accueil une jeudi sur deu
 x au Salon de Quilles Charlevoix pour ses matchs endiablés et souvent inse
 nsés qui sauront vous faire décrocher la mâchoire!Venez rire et pleurer jo
 yeusement avec nous!
DTSTART:20241206T010000Z
DTEND:20241206T030000Z
GEO:00;0
LOCATION:Salon de quilles Charlevoix
ORGANIZER:
SEQUENCE:1
SUMMARY:Match d’impro
TRANSP:OPAQUE
URL:https://www.baiesaintpaulguide.com/en/component/icagenda/match-dimpro.h
 tml?Itemid=102
END:VEVENT
END:VCALENDAR
