BEGIN:VCALENDAR
VERSION:2.0
PRODID:-//Baie-Saint-Paul Guide//NONSGML kigkonsult.se iCalcreator 2.30.10/
 /
CALSCALE:GREGORIAN
METHOD:PUBLISH
UID:6198b7d7-535f-46fd-9ac0-a9a0c779ae0a
X-WR-CALNAME:iCagenda
X-WR-CALDESC:Event Management Extension for Joomla!
X-WR-RELCALID:3E26604A-50F4-4449-8B3E-E4F4932D05B5
X-WR-TIMEZONE:America/Toronto
BEGIN:VTIMEZONE
TZID:America/Toronto
BEGIN:STANDARD
TZNAME:EST
DTSTART:20241103T020000
TZOFFSETFROM:-0400
TZOFFSETTO:-0500
RDATE:20251102T020000
END:STANDARD
BEGIN:DAYLIGHT
TZNAME:EDT
DTSTART:20240310T020000
TZOFFSETFROM:-0500
TZOFFSETTO:-0400
RDATE:20250309T020000
RDATE:20260308T020000
END:DAYLIGHT
END:VTIMEZONE
BEGIN:VEVENT
UID:2f44ac50-580f-4190-acd7-2762132fc913
DTSTAMP:20260423T030743Z
CATEGORIES:Bistro des Balcons
CLASS:PUBLIC
DESCRIPTION;ALTREP="CID:<FFFF__=0ABBE548DFE235B58f9e8a93d@coffeebean.com>":
 Le Bingo du 17 décembre sera animé par nulle autre que la belle gang du FE
 STIF! et projeté au Bistro des Balcons. \nIls ont vraiment hâte de se retr
 ouver dans les studios de TVCO pour répandre leur magie et leur énergie co
 ntagieuse lors de cette édition spéciale du Bingo avant les Fêtes.\n En pl
 us des prix habituels\, il y aura aussi des billets de la prochaine éditio
 n du Festif! à gagner   \nLes cartes de Bingo seront en vente dès 17h au B
 istro au coût de 5$ chacune. Payable en argent ou par carte.\n Début du Bi
 ngo à 18h00.
DTSTART:20241217T230000Z
DTEND:20241218T000000Z
GEO:+47.438202;-70.505577
LOCATION:Bistro des Balcons
ORGANIZER:
SEQUENCE:1
SUMMARY:Mardi Bingo - Spécial Festif!
TRANSP:OPAQUE
URL:https://www.baiesaintpaulguide.com/en/component/icagenda/mardi-bingo-sp
 ecial-festif.html?Itemid=102
END:VEVENT
END:VCALENDAR
