BEGIN:VCALENDAR
VERSION:2.0
PRODID:-//Baie-Saint-Paul Guide//NONSGML kigkonsult.se iCalcreator 2.30.10/
 /
CALSCALE:GREGORIAN
METHOD:PUBLISH
UID:e70d871d-7365-497c-a5ff-e3d375c446b0
X-WR-CALNAME:iCagenda
X-WR-CALDESC:Event Management Extension for Joomla!
X-WR-RELCALID:3E26604A-50F4-4449-8B3E-E4F4932D05B5
X-WR-TIMEZONE:America/Toronto
BEGIN:VTIMEZONE
TZID:America/Toronto
BEGIN:STANDARD
TZNAME:EST
DTSTART:20241103T020000
TZOFFSETFROM:-0400
TZOFFSETTO:-0500
RDATE:20251102T020000
END:STANDARD
BEGIN:DAYLIGHT
TZNAME:EDT
DTSTART:20240310T020000
TZOFFSETFROM:-0500
TZOFFSETTO:-0400
RDATE:20250309T020000
RDATE:20260308T020000
END:DAYLIGHT
END:VTIMEZONE
BEGIN:VEVENT
UID:5f03d5b7-eb89-475a-b208-c839dd9e47a4
DTSTAMP:20260423T031037Z
CATEGORIES:Bistro des Balcons
CLASS:PUBLIC
DESCRIPTION;ALTREP="CID:<FFFF__=0ABBE548DFE235B58f9e8a93d@coffeebean.com>":
 La tradition des Jeudis 5 à 7 se maintient\, et ce\, jusqu'à nouvel ordre.
  \nNe vous en faites pas\, petites âmes dansantes\, nous serons toujours l
 à pour vous faire voguer les jeudis. Juste à temps pour l'apéro et les con
 fessions amicales \nCette semaine aux platines :Maude Arsenault
DTSTART:20241205T220000Z
DTEND:20241206T000000Z
GEO:+47.438202;-70.505577
LOCATION:Bistro des Balcons
ORGANIZER:
SEQUENCE:1
SUMMARY:Les Jeudis 5 à 7 - Maude Arsenault
TRANSP:OPAQUE
URL:https://www.baiesaintpaulguide.com/en/component/icagenda/les-jeudis-5-a
 -7-maude-arsenault.html?Itemid=102
END:VEVENT
END:VCALENDAR
