BEGIN:VCALENDAR
VERSION:2.0
PRODID:-//Baie-Saint-Paul Guide//NONSGML kigkonsult.se iCalcreator 2.30.10/
 /
CALSCALE:GREGORIAN
METHOD:PUBLISH
UID:46cfa9f1-93a8-4175-9250-254fa9b3e00a
X-WR-CALNAME:iCagenda
X-WR-CALDESC:Event Management Extension for Joomla!
X-WR-RELCALID:3E26604A-50F4-4449-8B3E-E4F4932D05B5
X-WR-TIMEZONE:America/Toronto
BEGIN:VTIMEZONE
TZID:America/Toronto
BEGIN:STANDARD
TZNAME:EST
DTSTART:20241103T020000
TZOFFSETFROM:-0400
TZOFFSETTO:-0500
RDATE:20251102T020000
RDATE:20261101T020000
END:STANDARD
BEGIN:DAYLIGHT
TZNAME:EDT
DTSTART:20250309T020000
TZOFFSETFROM:-0500
TZOFFSETTO:-0400
RDATE:20260308T020000
END:DAYLIGHT
END:VTIMEZONE
BEGIN:VEVENT
UID:b34a3d8d-25e4-4baf-bc2e-03c3525ecaf6
DTSTAMP:20260422T150644Z
CATEGORIES:Bistro des Balcons
CLASS:PUBLIC
DESCRIPTION;ALTREP="CID:<FFFF__=0ABBE548DFE235B58f9e8a93d@coffeebean.com>":
 Les classiques jeudis d'été sont fièrement présentés par À Chacun son Pain
 \nOn vous accueille chaque semaine pour des 5 à 7 avec toujours de nouveau
 x DJ invités pour varier les plaisirs &amp\; les styles !\nCette semaine a
 ux platines : Echo Twins Pour découvrir son univers\, c'est par ici : http
 s://soundcloud.com/echotwins\n Tous les jeudis GRATUIT Bienvenue à toustes
  !\nSur la terrasse s'il fait beau - à l'intérieur s'il mouille
DTSTART:20250710T210000Z
DTEND:20250710T230000Z
GEO:+47.438202;-70.505577
LOCATION:Bistro des Balcons
ORGANIZER:
SEQUENCE:1
SUMMARY:Les Jeudis 5 à 7 - Echo Twins
TRANSP:OPAQUE
URL:https://www.baiesaintpaulguide.com/en/component/icagenda/les-jeudis-5-a
 -7-echo-twins.html?Itemid=102
END:VEVENT
END:VCALENDAR
