BEGIN:VCALENDAR
VERSION:2.0
PRODID:-//Baie-Saint-Paul Guide//NONSGML kigkonsult.se iCalcreator 2.30.10/
 /
CALSCALE:GREGORIAN
METHOD:PUBLISH
UID:5b251b01-d6e0-4957-9e7a-5fb1d9ee1136
X-WR-CALNAME:iCagenda
X-WR-CALDESC:Event Management Extension for Joomla!
X-WR-RELCALID:3E26604A-50F4-4449-8B3E-E4F4932D05B5
X-WR-TIMEZONE:America/Toronto
BEGIN:VTIMEZONE
TZID:America/Toronto
BEGIN:STANDARD
TZNAME:EST
DTSTART:20241103T020000
TZOFFSETFROM:-0400
TZOFFSETTO:-0500
RDATE:20251102T020000
RDATE:20261101T020000
END:STANDARD
BEGIN:DAYLIGHT
TZNAME:EDT
DTSTART:20250309T020000
TZOFFSETFROM:-0500
TZOFFSETTO:-0400
RDATE:20260308T020000
END:DAYLIGHT
END:VTIMEZONE
BEGIN:VEVENT
UID:b8507673-13f0-4233-b5f3-e5ef400eb3d5
DTSTAMP:20260422T151109Z
CATEGORIES:Omerto
CLASS:PUBLIC
DESCRIPTION;ALTREP="CID:<FFFF__=0ABBE548DFE235B58f9e8a93d@coffeebean.com>":
 Au menu ce soir\, de délicieux tapas préparés par Le Diapason\, boutique g
 ourmande &amp\; sandwicherie de Baie-Saint-Paul\, vous seront servis\, acc
 ompagnés d’une dégustation d’un nouveau cocktail découverte et d’un verre 
 de vin au choix\, sec ou moelleux.\nNe manquez pas cette expérience unique
  ! Réservez dès maintenant vos billets en ligne pour garantir votre place\
 , car elles sont limitées. Rendez-vous au 328\, rang Saint-Antoine N\, Bai
 e-Saint-Paul\, Québec G3Z 2C3 pour une expérience culinaire inoubliable. V
 euillez noter que le menu peut différer de l'image. Ne tardez pas\, achete
 z vos billets dès aujourd’hui !\nPour voir tous nos évènements\, visitez l
 e site : lepointdevente.com/billets/omerto
DTSTART:20250710T200000Z
DTEND:20250711T000000Z
GEO:00;0
LOCATION:Omerto
ORGANIZER:
SEQUENCE:1
SUMMARY:Les Jeudis 4@8 chez Omerto - Tapas - Le Diapason
TRANSP:OPAQUE
URL:https://www.baiesaintpaulguide.com/en/component/icagenda/les-jeudis-4-8
 -chez-omerto-tapas-le-diapason.html?Itemid=102
END:VEVENT
END:VCALENDAR
