BEGIN:VCALENDAR
VERSION:2.0
PRODID:-//Baie-Saint-Paul Guide//NONSGML kigkonsult.se iCalcreator 2.30.10/
 /
CALSCALE:GREGORIAN
METHOD:PUBLISH
UID:ac9edd4c-1e0a-4113-bcdb-6398d4e1b81c
X-WR-CALNAME:iCagenda
X-WR-CALDESC:Event Management Extension for Joomla!
X-WR-RELCALID:3E26604A-50F4-4449-8B3E-E4F4932D05B5
X-WR-TIMEZONE:America/Toronto
BEGIN:VTIMEZONE
TZID:America/Toronto
BEGIN:STANDARD
TZNAME:EST
DTSTART:20231105T020000
TZOFFSETFROM:-0400
TZOFFSETTO:-0500
RDATE:20241103T020000
RDATE:20251102T020000
END:STANDARD
BEGIN:DAYLIGHT
TZNAME:EDT
DTSTART:20240310T020000
TZOFFSETFROM:-0500
TZOFFSETTO:-0400
RDATE:20250309T020000
END:DAYLIGHT
END:VTIMEZONE
BEGIN:VEVENT
UID:5aa77618-0107-4a4c-a17d-77926e9a6dae
DTSTAMP:20260423T093351Z
CATEGORIES:Les Dimanches lyriques
CLASS:PUBLIC
DESCRIPTION;ALTREP="CID:<FFFF__=0ABBE548DFE235B58f9e8a93d@coffeebean.com>":
 Sous le signe de la gaieté et de la bonne humeur\, ces prestations lyrique
 s sont une halte musicale incontournable. La direction musicale est assuré
 e par Sylvain Landry et l’accompagnement au piano par Renée Gagnon.\nCE QU
 I SE PASSE À L'AUBERGE RESTE À L'AUBERGE !&nbsp\;\nDans le hall d'une joli
 e petite auberge située dans un site enchanteur\, de nombreuses personnes 
 vont et viennent emportant avec elles un vécu et des expériences de vie bi
 en différentes.&nbsp\; On y fait des rencontres&nbsp\;enrichissantes\, amu
 santes et parfois surprenantes!&nbsp\; Mais\, chut... pas un mot... ce qui
  se passe à l'auberge reste à l'auberge ! Un rendez-vous intiriguant à ne 
 pas manquer.\nLES DIMANCHES 7\, 14\, 28&nbsp\;JUILLET ET 4&nbsp\;AOÛT À 13
  H 30
DTSTART:20240804T173000Z
DTEND:20240804T183000Z
GEO:+47.439861;-70.506615
LOCATION:Carrefour culturel Paul-Médéric
ORGANIZER:
SEQUENCE:1
SUMMARY:Les Dimanches lyriques
TRANSP:OPAQUE
URL:https://www.baiesaintpaulguide.com/en/component/icagenda/les-dimanches-
 lyriques-4.html?Itemid=102
END:VEVENT
END:VCALENDAR
