BEGIN:VCALENDAR
VERSION:2.0
PRODID:-//Baie-Saint-Paul Guide//NONSGML kigkonsult.se iCalcreator 2.30.10/
 /
CALSCALE:GREGORIAN
METHOD:PUBLISH
UID:c9504eea-24b6-494d-9028-24b79a8200da
X-WR-CALNAME:iCagenda
X-WR-CALDESC:Event Management Extension for Joomla!
X-WR-RELCALID:3E26604A-50F4-4449-8B3E-E4F4932D05B5
X-WR-TIMEZONE:America/Toronto
BEGIN:VTIMEZONE
TZID:America/Toronto
BEGIN:STANDARD
TZNAME:EST
DTSTART:20231105T020000
TZOFFSETFROM:-0400
TZOFFSETTO:-0500
RDATE:20241103T020000
RDATE:20251102T020000
END:STANDARD
BEGIN:DAYLIGHT
TZNAME:EDT
DTSTART:20240310T020000
TZOFFSETFROM:-0500
TZOFFSETTO:-0400
RDATE:20250309T020000
END:DAYLIGHT
END:VTIMEZONE
BEGIN:VEVENT
UID:525cd516-1123-4d66-b6e8-ac096fae8dd0
DTSTAMP:20260423T093722Z
CATEGORIES:Les Dimanches Musicaux
CLASS:PUBLIC
DESCRIPTION;ALTREP="CID:<FFFF__=0ABBE548DFE235B58f9e8a93d@coffeebean.com>":
 Rejoignez-nous dans le magnifique Jardin de François à 11h pour un concert
  exceptionnel de Jules Al-Simaani Goulet\, dans le cadre des Dimanches Mus
 icaux. Ce pianiste talentueux vous enchantera avec une performance solo qu
 i promet d'être mémorable.\nLe prix d'entrée est de 15 $ pour l'admission 
 générale\, gratuit pour les enfants de 12 ans et moins\, et 100 $ pour la 
 série de 8 concerts. Profitez également de café et de petites douceurs pou
 r agrémenter votre expérience musicale dans ce cadre idyllique. Ne manquez
  pas cette occasion unique d'apprécier la musique dans un environnement na
 turel et apaisant.\nAchetez des billets en ligne
DTSTART:20240818T150000Z
DTEND:20240818T160000Z
GEO:+47.436577;-70.505394
LOCATION:Jardin de François
ORGANIZER:
SEQUENCE:1
SUMMARY:Jules Al-Simaani Goulet - Les Dimanches Musicaux
TRANSP:OPAQUE
URL:https://www.baiesaintpaulguide.com/en/component/icagenda/jules-al-simaa
 ni-goulet-les-dimanches-musicaux.html?Itemid=102
END:VEVENT
END:VCALENDAR
