BEGIN:VCALENDAR
VERSION:2.0
PRODID:-//Baie-Saint-Paul Guide//NONSGML kigkonsult.se iCalcreator 2.30.10/
 /
CALSCALE:GREGORIAN
METHOD:PUBLISH
UID:09e7679d-b4a2-49f8-ba35-bd1479a3fac3
X-WR-CALNAME:iCagenda
X-WR-CALDESC:Event Management Extension for Joomla!
X-WR-RELCALID:3E26604A-50F4-4449-8B3E-E4F4932D05B5
X-WR-TIMEZONE:America/Toronto
BEGIN:VTIMEZONE
TZID:America/Toronto
BEGIN:STANDARD
TZNAME:EST
DTSTART:20241103T020000
TZOFFSETFROM:-0400
TZOFFSETTO:-0500
RDATE:20251102T020000
END:STANDARD
BEGIN:DAYLIGHT
TZNAME:EDT
DTSTART:20250309T020000
TZOFFSETFROM:-0500
TZOFFSETTO:-0400
RDATE:20260308T020000
END:DAYLIGHT
END:VTIMEZONE
BEGIN:VEVENT
UID:af55f47a-d54c-4310-8402-cc1e71ffafe0
DTSTAMP:20260422T221000Z
CATEGORIES:Bistro des Balcons
CLASS:PUBLIC
DESCRIPTION;ALTREP="CID:<FFFF__=0ABBE548DFE235B58f9e8a93d@coffeebean.com>":
 Vendredi 28 mars 2025Bistro ouvert dès 17h00Début de la performance à 20h0
 0\nNous vous accueillons pour une soirée toute en humour lors de ce dernie
 r spectacle de notre programmation d'hiver!\nC’est l’heure d’un premier sp
 ectacle solo pour Jean-Philippe Guay! Avec DÉBANDADE\, on voit l’aboutisse
 ment de 7 ans de travail et on traverse une panoplie de sujets mais toujou
 rs niaiseux même quand c’est intelligent\, si ça fait du sens…\nÉtirez-vou
 s bien la mâchoire\, on va rire! \nBillets : 15$ https://lepointdevente.co
 m/billets/adb250328001/
DTSTART:20250329T000000Z
DTEND:20250329T013000Z
GEO:+47.438202;-70.505577
LOCATION:Auberge & Bistro des Balcons
ORGANIZER:
SEQUENCE:1
SUMMARY:Jean-Philippe Guay (HUMOUR)
TRANSP:OPAQUE
URL:https://www.baiesaintpaulguide.com/en/component/icagenda/jean-philippe-
 guay-humour.html?Itemid=102
END:VEVENT
END:VCALENDAR
