BEGIN:VCALENDAR
VERSION:2.0
PRODID:-//Baie-Saint-Paul Guide//NONSGML kigkonsult.se iCalcreator 2.30.10/
 /
CALSCALE:GREGORIAN
METHOD:PUBLISH
UID:4ed26bd9-4c50-4e2c-b557-7041eb817ee6
X-WR-CALNAME:iCagenda
X-WR-CALDESC:Event Management Extension for Joomla!
X-WR-RELCALID:3E26604A-50F4-4449-8B3E-E4F4932D05B5
X-WR-TIMEZONE:America/Toronto
BEGIN:VTIMEZONE
TZID:America/Toronto
BEGIN:STANDARD
TZNAME:EST
DTSTART:20241103T020000
TZOFFSETFROM:-0400
TZOFFSETTO:-0500
RDATE:20251102T020000
RDATE:20261101T020000
END:STANDARD
BEGIN:DAYLIGHT
TZNAME:EDT
DTSTART:20250309T020000
TZOFFSETFROM:-0500
TZOFFSETTO:-0400
RDATE:20260308T020000
END:DAYLIGHT
END:VTIMEZONE
BEGIN:VEVENT
UID:f0802de0-bf59-4e52-a24a-b7a7ec88afdf
DTSTAMP:20260422T151006Z
CATEGORIES:Bistro des Balcons
CLASS:PUBLIC
DESCRIPTION;ALTREP="CID:<FFFF__=0ABBE548DFE235B58f9e8a93d@coffeebean.com>":
 POP-UP FRIPERIE FESTIVE x Marcelle Friperie Nomade\nPassez sur la terrasse
  du Bistro pendant le Festif pour trouver les meilleurs kits de festivalie
 rs \nHORAIRE Jeudi 17 juillet - 12H à 18HVendredi 18 juillet - 12H à 18HSa
 medi 19 juillet - 12H à 18H\n⎯\nMarcelle Friperie Nomade est une boutique 
 seconde main\, remplie de trouvailles unisexes uniques choisies à la main\
 , morceau par morceau.\nDu vintage au plus récent\, chaque pièce est soign
 eusement sélectionnée pour son style et sa qualité.\n Prix entre 5 $ et 80
  $ pour une moyenne de 20-25$\, — il y en a pour tous les goûts et tous le
 s budgets.\nPaiements acceptés : argent comptant et cartes (débit/crédit).
  
DTSTART:20250718T160000Z
DTEND:20250718T220000Z
GEO:+47.438202;-70.505577
LOCATION:Auberge & Bistro des Balcons
ORGANIZER:
SEQUENCE:1
SUMMARY:Friperie Festive x Marcelle
TRANSP:OPAQUE
URL:https://www.baiesaintpaulguide.com/en/component/icagenda/friperie-festi
 ve-x-marcelle/2025-07-18-12-00.html?Itemid=102
END:VEVENT
END:VCALENDAR
