BEGIN:VCALENDAR
VERSION:2.0
PRODID:-//Baie-Saint-Paul Guide//NONSGML kigkonsult.se iCalcreator 2.30.10/
 /
CALSCALE:GREGORIAN
METHOD:PUBLISH
UID:284a61fc-4a66-4ad0-85e7-afff26922120
X-WR-CALNAME:iCagenda
X-WR-CALDESC:Event Management Extension for Joomla!
X-WR-RELCALID:3E26604A-50F4-4449-8B3E-E4F4932D05B5
X-WR-TIMEZONE:America/Toronto
BEGIN:VTIMEZONE
TZID:America/Toronto
BEGIN:STANDARD
TZNAME:EST
DTSTART:20231105T020000
TZOFFSETFROM:-0400
TZOFFSETTO:-0500
RDATE:20241103T020000
RDATE:20251102T020000
END:STANDARD
BEGIN:DAYLIGHT
TZNAME:EDT
DTSTART:20240310T020000
TZOFFSETFROM:-0500
TZOFFSETTO:-0400
RDATE:20250309T020000
END:DAYLIGHT
END:VTIMEZONE
BEGIN:VEVENT
UID:a79cea50-c67d-4561-a199-964f05e4c852
DTSTAMP:20260423T093810Z
CATEGORIES:Les Dimanches Musicaux
CLASS:PUBLIC
DESCRIPTION;ALTREP="CID:<FFFF__=0ABBE548DFE235B58f9e8a93d@coffeebean.com>":
 Rejoignez-nous à la Chapelle de Maison Mère à 11h pour un concert enchante
 ur du Duo Les Dames de Cœur\, dans le cadre des Dimanches Musicaux. Ce duo
  captivant\, composé d'une voix magnifique et d'un piano élégant\, promet 
 une matinée musicale inoubliable.\nLe prix d'entrée est de 15 $ pour l'adm
 ission générale\, gratuit pour les enfants de 12 ans et moins\, et 100 $ p
 our la série de 8 concerts. Profitez également de café et de petites douce
 urs pour rendre votre expérience encore plus agréable.\nDimanche 11 août 2
 024 : Duo Les Dames de Cœur - Voix et piano. Ne manquez pas cette occasion
  unique de savourer une performance musicale exceptionnelle dans un cadre 
 intime et chaleureux.\n \nAchetez des billets en ligne
DTSTART:20240811T150000Z
DTEND:20240811T160000Z
GEO:+47.438503;-70.506554
LOCATION:Chapelle de Maison Mère
ORGANIZER:
SEQUENCE:1
SUMMARY:Duo Les Dames de Coeur - Les Dimanches Musicaux
TRANSP:OPAQUE
URL:https://www.baiesaintpaulguide.com/en/component/icagenda/duo-les-dames-
 de-coeur-les-dimanches-musicaux.html?Itemid=102
END:VEVENT
END:VCALENDAR
