BEGIN:VCALENDAR
VERSION:2.0
PRODID:-//Baie-Saint-Paul Guide//NONSGML kigkonsult.se iCalcreator 2.30.10/
 /
CALSCALE:GREGORIAN
METHOD:PUBLISH
UID:e522043d-62af-45be-86d8-f304a48a26a3
X-WR-CALNAME:iCagenda
X-WR-CALDESC:Event Management Extension for Joomla!
X-WR-RELCALID:3E26604A-50F4-4449-8B3E-E4F4932D05B5
X-WR-TIMEZONE:America/Toronto
BEGIN:VTIMEZONE
TZID:America/Toronto
BEGIN:STANDARD
TZNAME:EST
DTSTART:20231105T020000
TZOFFSETFROM:-0400
TZOFFSETTO:-0500
RDATE:20241103T020000
RDATE:20251102T020000
END:STANDARD
BEGIN:DAYLIGHT
TZNAME:EDT
DTSTART:20240310T020000
TZOFFSETFROM:-0500
TZOFFSETTO:-0400
RDATE:20250309T020000
RDATE:20260308T020000
END:DAYLIGHT
END:VTIMEZONE
BEGIN:VEVENT
UID:f3da8cd2-ead5-4c1d-903b-ed20edda17fe
DTSTAMP:20260423T045120Z
CATEGORIES:Soirée
CLASS:PUBLIC
DESCRIPTION;ALTREP="CID:<FFFF__=0ABBE548DFE235B58f9e8a93d@coffeebean.com>":
 Nous avons le plaisir de vous annoncer notre soirée dansante qui aura lieu
  le samedi 2 novembre dans la Grande Salle de Maison Mère à partir de 19 h
  ! Le thème de la soirée sera le bal masqué\, mais vous auriez aussi la po
 ssibilité de vous faire maquiller en tête de mort mexicaine ! On a hâte de
  célébrer cette tradition mexicaine colorée avec vous pour la toute premiè
 re fois.\nLes portes sont grandes ouvertes pour tout le monde\, alors n'at
 tendez plus ! Venez faire un tour à la réception de Maison Mère ou achetez
  vos billets en ligne\, c'est le moment de vous joindre à la fête !\nVenez
  en masse pour une soirée dansante inoubliable !--------------------------
 ---------------------------------------------Informations générales :*Stat
 ionnement disponible sur le site de Maison Mère ainsi qu’au stationnement 
 municipal en face de Maison Mère. 
DTSTART:20241102T230000Z
DTEND:20241103T030000Z
GEO:+47.438923;-70.506294
LOCATION:Maison Mère Baie-Saint-Paul
ORGANIZER:
SEQUENCE:1
SUMMARY:Dia de muertos
TRANSP:OPAQUE
URL:https://www.baiesaintpaulguide.com/en/component/icagenda/dia-de-muertos
 .html?Itemid=102
END:VEVENT
END:VCALENDAR
