BEGIN:VCALENDAR
VERSION:2.0
PRODID:-//Baie-Saint-Paul Guide//NONSGML kigkonsult.se iCalcreator 2.30.10/
 /
CALSCALE:GREGORIAN
METHOD:PUBLISH
UID:f09a466f-7bb3-4faa-a4e3-340a445825ee
X-WR-CALNAME:iCagenda
X-WR-CALDESC:Event Management Extension for Joomla!
X-WR-RELCALID:3E26604A-50F4-4449-8B3E-E4F4932D05B5
X-WR-TIMEZONE:America/Toronto
BEGIN:VTIMEZONE
TZID:America/Toronto
BEGIN:STANDARD
TZNAME:EST
DTSTART:20251102T020000
TZOFFSETFROM:-0400
TZOFFSETTO:-0500
RDATE:20261101T020000
END:STANDARD
BEGIN:DAYLIGHT
TZNAME:EDT
DTSTART:20250309T020000
TZOFFSETFROM:-0500
TZOFFSETTO:-0400
RDATE:20260308T020000
RDATE:20270314T020000
END:DAYLIGHT
END:VTIMEZONE
BEGIN:VEVENT
UID:11a5844a-643f-4878-b008-bc608e3a525e
DTSTAMP:20260422T100152Z
CATEGORIES:Musée d'art contemporain de Baie-Saint-Paul
CLASS:PUBLIC
DESCRIPTION;ALTREP="CID:<FFFF__=0ABBE548DFE235B58f9e8a93d@coffeebean.com>":
 Notre documentaire 'COZIC' sera présenté au Musée d'art contemporain de Ba
 ie-St-Paul le 18 novembre 2025 à 20h ! Réservez la date ! Merci à K-Films 
 Amérique\, au Musée d'art contemporain de Baie-St-Paul et au FIFA de nous 
 avoir inclus dans la 3e édition de la tournée régionale du FIFA !
DTSTART:20251119T010000Z
DTEND:20251119T030000Z
GEO:+47.440292;-70.505592
LOCATION:Musée d'art contemporain de Baie-Saint-Paul
ORGANIZER:
SEQUENCE:1
SUMMARY:“COZIC” au Musée d’art contemporain de Baie-St-Paul
TRANSP:OPAQUE
URL:https://www.baiesaintpaulguide.com/en/component/icagenda/cozic-au-musee
 -dart-contemporain-de-baie-st-paul.html?Itemid=102
END:VEVENT
END:VCALENDAR
