BEGIN:VCALENDAR
VERSION:2.0
PRODID:-//Baie-Saint-Paul Guide//NONSGML kigkonsult.se iCalcreator 2.30.10/
 /
CALSCALE:GREGORIAN
METHOD:PUBLISH
UID:e6621fd5-d99b-4345-b64e-b1dc1b4a285c
X-WR-CALNAME:iCagenda
X-WR-CALDESC:Event Management Extension for Joomla!
X-WR-RELCALID:3E26604A-50F4-4449-8B3E-E4F4932D05B5
X-WR-TIMEZONE:America/Toronto
BEGIN:VTIMEZONE
TZID:America/Toronto
BEGIN:STANDARD
TZNAME:EST
DTSTART:20241103T020000
TZOFFSETFROM:-0400
TZOFFSETTO:-0500
RDATE:20251102T020000
END:STANDARD
BEGIN:DAYLIGHT
TZNAME:EDT
DTSTART:20240310T020000
TZOFFSETFROM:-0500
TZOFFSETTO:-0400
RDATE:20250309T020000
RDATE:20260308T020000
END:DAYLIGHT
END:VTIMEZONE
BEGIN:VEVENT
UID:8a7bc5be-6c48-4da5-8e95-45783acbcbde
DTSTAMP:20260423T030941Z
CATEGORIES:Soirée
CLASS:PUBLIC
DESCRIPTION;ALTREP="CID:<FFFF__=0ABBE548DFE235B58f9e8a93d@coffeebean.com>":
 Champs Libres est de retour!\nDu 10 octobre au 5 décembre\, de grands chef
 s invités prendront à nouveau place au restaurant Les Labours pour créer d
 es menus uniques accompagnés par la brigade du chef Patrick Dubé.\nChef Fr
 anco-canadien\, Alexandre Vachon est un chef qu’on ne présente plus. Aujou
 rd’hui à la tête des restaurants du Manoir Hovey - Le Hatley et le Bistro 
 Tap Room - situé à North Hatley en Estrie\, il s’appuie sur la cuisine cla
 ssique pour créer des plats contemporains capables de capturer des émotion
 s. Inspiré par le terroir\, il explore les saveurs pour tenter de faire re
 découvrir à ses convives leurs souvenirs culinaires\, ça promet d’être gra
 ndiose !\nPour réserver : https://booking.libroreserve.com/.../QC015100180
 697/seat...\nEnvie de prolonger l'expérience et de séjourner sur place ? C
 ontactez notre équipe pour obtenir un tarif avantageux le soir de l'événem
 ent ! 418 240-4100
DTSTART:20241205T223000Z
DTEND:20241206T003000Z
GEO:+47.435905;-70.504669
LOCATION:Les Labours - Hôtel & Spa Le Germain Charlevoix
ORGANIZER:
SEQUENCE:1
SUMMARY:Champs Libres - Alexandre Vachon - Manoir Hovey
TRANSP:OPAQUE
URL:https://www.baiesaintpaulguide.com/en/component/icagenda/champs-libres-
 alexandre-vachon-manoir-hovey.html?Itemid=102
END:VEVENT
END:VCALENDAR
