BEGIN:VCALENDAR
VERSION:2.0
PRODID:-//Baie-Saint-Paul Guide//NONSGML kigkonsult.se iCalcreator 2.30.10/
 /
CALSCALE:GREGORIAN
METHOD:PUBLISH
UID:c94987bc-7e4e-4034-9750-07d8f0dcb063
X-WR-CALNAME:iCagenda
X-WR-CALDESC:Event Management Extension for Joomla!
X-WR-RELCALID:3E26604A-50F4-4449-8B3E-E4F4932D05B5
X-WR-TIMEZONE:America/Toronto
BEGIN:VTIMEZONE
TZID:America/Toronto
BEGIN:STANDARD
TZNAME:EST
DTSTART:20231105T020000
TZOFFSETFROM:-0400
TZOFFSETTO:-0500
RDATE:20241103T020000
RDATE:20251102T020000
END:STANDARD
BEGIN:DAYLIGHT
TZNAME:EDT
DTSTART:20240310T020000
TZOFFSETFROM:-0500
TZOFFSETTO:-0400
RDATE:20250309T020000
END:DAYLIGHT
END:VTIMEZONE
BEGIN:VEVENT
UID:153baaa4-550d-4bc9-8e5e-2e71878d0a39
DTSTAMP:20260423T093809Z
CATEGORIES:Bistro des Balcons
CLASS:PUBLIC
DESCRIPTION;ALTREP="CID:<FFFF__=0ABBE548DFE235B58f9e8a93d@coffeebean.com>":
 Funk\, Blues // Contributions volontaires // Bienvenue à toustes !\nSans l
 ’ombre d’un blues\, Kenny\, Ricky\, Mike et Steve vous livre un rock qui e
 nflammera votre plancher. Ils adorent écouter AC/DC et Chic à bord de leur
  Bluesmousine.\nÉtabli en 2016\, Bluesmousine a traversé diverses péripéti
 es avant d'atteindre ce moment charnière\, à la veille de la sortie de leu
 r album. 'Friday Night Coffee'\, prévu pour la fin de l'année\, rayonne de
  lumière et déborde d'une énergie ardente. Kenny (Fuddge)\, Ricky (Dallas)
 \, Mike (Blaze Velluto) et Steve (Manufest) vous accueilleront avec un feu
  qui électrise l'atmosphère. Leur objectif ? Vous arracher à la torpeur de
  votre quotidien\, vous faire quitter vos pantoufles pour plonger dans une
  expérience musicale exaltante.
DTSTART:20240817T000000Z
DTEND:20240817T020000Z
GEO:+47.438202;-70.505577
LOCATION:Auberge & Bistro des Balcons
ORGANIZER:
SEQUENCE:1
SUMMARY:Bluesmousine au Bistro des Balcons
TRANSP:OPAQUE
URL:https://www.baiesaintpaulguide.com/en/component/icagenda/bluesmousine-a
 u-bistro-des-balcons.html?Itemid=102
END:VEVENT
END:VCALENDAR
