BEGIN:VCALENDAR
VERSION:2.0
PRODID:-//Baie-Saint-Paul Guide//NONSGML kigkonsult.se iCalcreator 2.30.10/
 /
CALSCALE:GREGORIAN
METHOD:PUBLISH
UID:c9035df9-6904-48be-874e-48a412504fb5
X-WR-CALNAME:iCagenda
X-WR-CALDESC:Event Management Extension for Joomla!
X-WR-RELCALID:3E26604A-50F4-4449-8B3E-E4F4932D05B5
X-WR-TIMEZONE:America/Toronto
BEGIN:VTIMEZONE
TZID:America/Toronto
BEGIN:STANDARD
TZNAME:EST
DTSTART:20241103T020000
TZOFFSETFROM:-0400
TZOFFSETTO:-0500
RDATE:20251102T020000
END:STANDARD
BEGIN:DAYLIGHT
TZNAME:EDT
DTSTART:20250309T020000
TZOFFSETFROM:-0500
TZOFFSETTO:-0400
RDATE:20260308T020000
END:DAYLIGHT
END:VTIMEZONE
BEGIN:VEVENT
UID:1799df0d-42e0-4909-9ec3-71ffc4712da0
DTSTAMP:20260422T221950Z
CATEGORIES:Bistro des Balcons
CLASS:PUBLIC
DESCRIPTION;ALTREP="CID:<FFFF__=0ABBE548DFE235B58f9e8a93d@coffeebean.com>":
 Bistro ouvert dès 17h00Début de la performance à 20h00Spectacle à contribu
 tions volontaires\nFormé des souriants musiciens Chantale Morin\, au piano
  précis et lumineux\, et Benoit Coulombe\, à la contrebasse groovante\, le
  groupe mené par le chanteur\, tromboniste et multi-instrumentiste Benoit 
 Paradis propage depuis plus de 15 ans ses chansons entremêlant jazz\, poés
 ie et humour avec une bonne humeur contagieuse. À des textes poétiques\, s
 ensibles et décalés\, aux sujets originaux et souvent sombres\, le trio fl
 anque des compositions aux ambiances contrastées.\nEn spectacle\, le group
 e prend son envol par sa facette théâtrale et son jazz acoustique laissant
  place aux imprévus. La grande chimie musicale des trois comparses\, la jo
 ie manifeste qu’ils ont de jouer ensemble est indéniable et irrésistible. 
 Projet unique par ses influences musicales et sa théâtralité dans l'interp
 rétation\, le projet se démarque dans le paysage de la chanson\, et se pro
 duit régulièrement au Québec\, en France\, en Suisse et en Belgique.\nSoye
 z des nôtres!&nbsp\;
DTSTART:20250315T000000Z
DTEND:20250315T013000Z
GEO:+47.438202;-70.505577
LOCATION:Auberge & Bistro des Balcons
ORGANIZER:
SEQUENCE:1
SUMMARY:Benoît Paradis Trio
TRANSP:OPAQUE
URL:https://www.baiesaintpaulguide.com/en/component/icagenda/benoit-paradis
 -trio.html?Itemid=102
END:VEVENT
END:VCALENDAR
