BEGIN:VCALENDAR
VERSION:2.0
PRODID:-//Baie-Saint-Paul Guide//NONSGML kigkonsult.se iCalcreator 2.30.10/
 /
CALSCALE:GREGORIAN
METHOD:PUBLISH
UID:00de1f07-c857-4d25-8f22-4ea45e41a4c9
X-WR-CALNAME:iCagenda
X-WR-CALDESC:Event Management Extension for Joomla!
X-WR-RELCALID:3E26604A-50F4-4449-8B3E-E4F4932D05B5
X-WR-TIMEZONE:America/Toronto
BEGIN:VTIMEZONE
TZID:America/Toronto
BEGIN:STANDARD
TZNAME:EST
DTSTART:20241103T020000
TZOFFSETFROM:-0400
TZOFFSETTO:-0500
RDATE:20251102T020000
END:STANDARD
BEGIN:DAYLIGHT
TZNAME:EDT
DTSTART:20240310T020000
TZOFFSETFROM:-0500
TZOFFSETTO:-0400
RDATE:20250309T020000
RDATE:20260308T020000
END:DAYLIGHT
END:VTIMEZONE
BEGIN:VEVENT
UID:60fa1cd8-f904-4d72-911c-b72eac70af47
DTSTAMP:20260423T030941Z
CATEGORIES:Marché de Noël de Baie-Saint-Paul
CLASS:PUBLIC
DESCRIPTION;ALTREP="CID:<FFFF__=0ABBE548DFE235B58f9e8a93d@coffeebean.com>":
 Rendez-vous le 7 décembre au Diapason pour un 4 à6 festif! Dans le cadre d
 u Marché de Noël\, nous vous invitons à vivre ce moment magique avec nous:
 \nDJ Klauss aux platines pour une ambiance électro jazz de Noël&nbsp\;Des 
 bières de micro pour trinquer à la magie des fête.&nbsp\;&nbsp\;Et bien sû
 r\, des bretzels délicieux et mini Flammekueche au menu pour accompagner c
 ette ambiance des fêtes !\nJoie\, paix et bonne humeur au programme ! Vene
 z découvrir des idées cadeaux uniques\, profiter de l'animation musicale e
 t célébrer l'esprit de Noël avec nous !\nLieu :Le Diapason boutique\, 1 ru
 e Sainte-Anne\, Baie-Saint-PaulHoraire : À partir de 16h\nNe manquez pas c
 et événement festif !
DTSTART:20241207T210000Z
DTEND:20241207T220000Z
GEO:+47.440987;-70.505142
LOCATION:Le Diapason
ORGANIZER:
SEQUENCE:1
SUMMARY:Avant Parvis au Diapason : 4@6 DJ Klauss !
TRANSP:OPAQUE
URL:https://www.baiesaintpaulguide.com/en/component/icagenda/avant-parvis-a
 u-diapason-4-6-dj-klauss.html?Itemid=102
END:VEVENT
END:VCALENDAR
