BEGIN:VCALENDAR
VERSION:2.0
PRODID:-//Baie-Saint-Paul Guide//NONSGML kigkonsult.se iCalcreator 2.30.10/
 /
CALSCALE:GREGORIAN
METHOD:PUBLISH
UID:b87ea614-0bf8-4e8a-a187-545d9ead0416
X-WR-CALNAME:iCagenda
X-WR-CALDESC:Event Management Extension for Joomla!
X-WR-RELCALID:3E26604A-50F4-4449-8B3E-E4F4932D05B5
X-WR-TIMEZONE:America/Toronto
BEGIN:VTIMEZONE
TZID:America/Toronto
BEGIN:STANDARD
TZNAME:EST
DTSTART:20231105T020000
TZOFFSETFROM:-0400
TZOFFSETTO:-0500
RDATE:20241103T020000
RDATE:20251102T020000
END:STANDARD
BEGIN:DAYLIGHT
TZNAME:EDT
DTSTART:20240310T020000
TZOFFSETFROM:-0500
TZOFFSETTO:-0400
RDATE:20250309T020000
END:DAYLIGHT
END:VTIMEZONE
BEGIN:VEVENT
UID:73d845c8-1083-41e7-b67f-ad8c6333530b
DTSTAMP:20260423T093214Z
CATEGORIES:Animation Baie-Saint-Paul
CLASS:PUBLIC
DESCRIPTION;ALTREP="CID:<FFFF__=0ABBE548DFE235B58f9e8a93d@coffeebean.com>":
 Ce spectacle captivant aura lieu à la Place de l'Église et est gratuit pou
 r tous les spectateurs. Anouk Vallée-Charest\, née à Montréal en 1983\, es
 t une artiste de cirque polyvalente et accomplie. Ayant débuté par la dans
 e et la gymnastique\, elle s'est ensuite formée pendant trois ans à l'Écol
 e nationale de cirque de Montréal\, où elle s'est spécialisée dans les dis
 ciplines aériennes\, principalement le tissu aérien et le cerceau aérien. 
 Depuis l'obtention de son diplôme en 2003\, elle a voyagé à travers le mon
 de\, se produisant pour des compagnies renommées comme le Cirque du Soleil
  et Cirque Éloize\, ainsi que dans des croisières\, des casinos\, des spec
 tacles équestres\, des festivals et divers événements spéciaux dans de nom
 breux pays.\nAttendez qu'elle soit sur scène et elle vous émerveillera. Un
 e véritable plongée dans son univers où se mêlent force\, qualité du mouve
 ment\, précision\, grâce et poésie. Ne manquez pas cette occasion unique d
 e voir une artiste de cirque de renommée internationale en action.
DTSTART:20240809T223000Z
DTEND:20240809T231500Z
GEO:+47.441021;-70.506462
LOCATION:Place de l'Église
ORGANIZER:
SEQUENCE:1
SUMMARY:Anouk Vallée-Charest - cirque
TRANSP:OPAQUE
URL:https://www.baiesaintpaulguide.com/en/component/icagenda/anouk-vallee-c
 harest-cirque.html?Itemid=102
END:VEVENT
END:VCALENDAR
