BEGIN:VCALENDAR
VERSION:2.0
PRODID:-//Baie-Saint-Paul Guide//NONSGML kigkonsult.se iCalcreator 2.30.10/
 /
CALSCALE:GREGORIAN
METHOD:PUBLISH
UID:4f9f9c06-d6c3-494d-9613-7c244244818a
X-WR-CALNAME:iCagenda
X-WR-CALDESC:Event Management Extension for Joomla!
X-WR-RELCALID:3E26604A-50F4-4449-8B3E-E4F4932D05B5
X-WR-TIMEZONE:America/Toronto
BEGIN:VTIMEZONE
TZID:America/Toronto
BEGIN:STANDARD
TZNAME:EST
DTSTART:20241103T020000
TZOFFSETFROM:-0400
TZOFFSETTO:-0500
RDATE:20251102T020000
RDATE:20261101T020000
END:STANDARD
BEGIN:DAYLIGHT
TZNAME:EDT
DTSTART:20250309T020000
TZOFFSETFROM:-0500
TZOFFSETTO:-0400
RDATE:20260308T020000
END:DAYLIGHT
END:VTIMEZONE
BEGIN:VEVENT
UID:6b932dfa-b33b-48c9-bf07-35a14ea92d66
DTSTAMP:20260422T150827Z
CATEGORIES:Symposium de Baie-Saint-Paul
CLASS:PUBLIC
DESCRIPTION;ALTREP="CID:<FFFF__=0ABBE548DFE235B58f9e8a93d@coffeebean.com>":
 Nkolo Masela\, artiste en résidence tout au long du Symposium\, vous accom
 pagnera lors de cette soirée dans la création de masques inspirés de son t
 ravail en utilisant des matériaux réutilisés.
DTSTART:20250731T210000Z
DTEND:20250731T230000Z
GEO:+47.440292;-70.505592
LOCATION:Symposium international d'art contemporain
ORGANIZER:
SEQUENCE:1
SUMMARY:5 à 7 créatif avec Nkolo Masela
TRANSP:OPAQUE
URL:https://www.baiesaintpaulguide.com/en/component/icagenda/5-a-7-creatif-
 avec-nkolo-masela.html?Itemid=102
END:VEVENT
END:VCALENDAR
