BEGIN:VCALENDAR
VERSION:2.0
PRODID:-//Baie-Saint-Paul Guide//NONSGML kigkonsult.se iCalcreator 2.30.10/
 /
CALSCALE:GREGORIAN
METHOD:PUBLISH
UID:a3cc3f0f-4256-4cf4-af9d-4215ab20ce96
X-WR-CALNAME:iCagenda
X-WR-CALDESC:Event Management Extension for Joomla!
X-WR-RELCALID:3E26604A-50F4-4449-8B3E-E4F4932D05B5
X-WR-TIMEZONE:America/Toronto
BEGIN:VTIMEZONE
TZID:America/Toronto
BEGIN:STANDARD
TZNAME:EST
DTSTART:20231105T020000
TZOFFSETFROM:-0400
TZOFFSETTO:-0500
RDATE:20241103T020000
RDATE:20251102T020000
END:STANDARD
BEGIN:DAYLIGHT
TZNAME:EDT
DTSTART:20240310T020000
TZOFFSETFROM:-0500
TZOFFSETTO:-0400
RDATE:20250309T020000
END:DAYLIGHT
END:VTIMEZONE
BEGIN:VEVENT
UID:99a4cde2-175d-4fb6-862d-63f6641f3cd7
DTSTAMP:20260423T093636Z
CATEGORIES:Bistro des Balcons
CLASS:PUBLIC
DESCRIPTION;ALTREP="CID:<FFFF__=0ABBE548DFE235B58f9e8a93d@coffeebean.com>":
 Chanson alternative //&nbsp\;Contributions volontaires // Bienvenue à tous
 tes !\nYohann Francoz\, véritablement possédé par une quête chansonnière p
 assionnelle\, tente de marier les nombreux sentiments musicaux qui l'habit
 ent quotidiennement. Éternel siffleux et créateur jouissant d'une source d
 'inspiration intarissable\, il joint les styles populaires comme s'il tent
 ait de réunir les parcelles éparpillées du monde moderne. En résulte une m
 usique vivante\, soumise à des caprices tantôt furieux\, tantôt à des épan
 chements sentimentaux poignants et doux.\nAprès des études jazz et classiq
 ues\, il se lance dans la création ambitieuse de son univers musical. Il s
 ort deux EPs (The Messenger et Espion de Chine)\, un album (Ruelle)\, un v
 idéoclip tourné en 16mm (Petit ange) et il se donne en spectacle partout a
 u Québec. Parallèlement\, il participe à la scène sherbrookoise et montréa
 laise en tant que multi-instrumentiste\, compositeur et arrangeur\, et il 
 fonde le Collectif de la chanson indépendante de l'Estrie. Yohann Francoz 
 revient aujourd'hui avec un nouvel album audacieux et exploratoire intitul
 é La grandeur.
DTSTART:20240707T000000Z
DTEND:20240707T020000Z
GEO:+47.438202;-70.505577
LOCATION:Auberge & Bistro des Balcons
ORGANIZER:
SEQUENCE:1
SUMMARY:Yohann Franco au Bistro des Balcons
TRANSP:OPAQUE
URL:https://www.baiesaintpaulguide.com/component/icagenda/yohann-franco-au-
 bistro-des-balcons.html?Itemid=103
END:VEVENT
END:VCALENDAR
