BEGIN:VCALENDAR
VERSION:2.0
PRODID:-//Baie-Saint-Paul Guide//NONSGML kigkonsult.se iCalcreator 2.30.10/
 /
CALSCALE:GREGORIAN
METHOD:PUBLISH
UID:690bc937-fd09-43d8-8624-d94ad8805af1
X-WR-CALNAME:iCagenda
X-WR-CALDESC:Event Management Extension for Joomla!
X-WR-RELCALID:3E26604A-50F4-4449-8B3E-E4F4932D05B5
X-WR-TIMEZONE:America/Toronto
BEGIN:VTIMEZONE
TZID:America/Toronto
BEGIN:STANDARD
TZNAME:EST
DTSTART:20231105T020000
TZOFFSETFROM:-0400
TZOFFSETTO:-0500
RDATE:20241103T020000
RDATE:20251102T020000
END:STANDARD
BEGIN:DAYLIGHT
TZNAME:EDT
DTSTART:20240310T020000
TZOFFSETFROM:-0500
TZOFFSETTO:-0400
RDATE:20250309T020000
END:DAYLIGHT
END:VTIMEZONE
BEGIN:VEVENT
UID:5b69c9bf-3b56-4cf9-b104-7374a0fd0ea0
DTSTAMP:20260423T080611Z
CATEGORIES:Animation Baie-Saint-Paul
CLASS:PUBLIC
DESCRIPTION;ALTREP="CID:<FFFF__=0ABBE548DFE235B58f9e8a93d@coffeebean.com>":
 \n\n\n&nbsp\;\n\n\n\n\n\n\n\n\n\nLe Winston Band se produira à la Place de
  l'Église\, avec une entrée gratuite pour tous. Ce groupe montréalais uniq
 ue fusionne ses racines canadiennes-françaises avec la musique zydeco et c
 ajun. Depuis 2012\, ils répandent leur joie de vivre à travers un son dist
 inctif\, mélangeant traditions louisianaises et identité montréalaise. Leu
 r album 'Zig Zag Zydeco Zoo' a été nominé au Gala de l’ADISQ et au GAMIQ\,
  et leur EP 'Enwèye à Lafayette' a remporté le GAMIQ 2022 du meilleur albu
 m de musique du monde.\nInspiré par les musiques de l’Amérique francophone
 \, le Winston Band crée un son original et enraciné\, oscillant entre comp
 ositions propres et pièces traditionnelles. Le puissant son de l’accordéon
  et leur formation zydeco contemporain garantissent une ambiance dansante 
 et festive. Le groupe a joué plus de 600 spectacles au Canada\, en Europe 
 et aux États-Unis.\n\n\n\n\n\n
DTSTART:20240803T233000Z
DTEND:20240804T010000Z
GEO:+47.44038;-70.506477
LOCATION:Place de l'Église
ORGANIZER:
SEQUENCE:1
SUMMARY:Winston Band - musique
TRANSP:OPAQUE
URL:https://www.baiesaintpaulguide.com/component/icagenda/winston-band-musi
 que.html?Itemid=103
END:VEVENT
END:VCALENDAR
