BEGIN:VCALENDAR
VERSION:2.0
PRODID:-//Baie-Saint-Paul Guide//NONSGML kigkonsult.se iCalcreator 2.30.10/
 /
CALSCALE:GREGORIAN
METHOD:PUBLISH
UID:faac3242-a54e-4620-8a08-87aa14bc1a19
X-WR-CALNAME:iCagenda
X-WR-CALDESC:Event Management Extension for Joomla!
X-WR-RELCALID:3E26604A-50F4-4449-8B3E-E4F4932D05B5
X-WR-TIMEZONE:America/Toronto
BEGIN:VTIMEZONE
TZID:America/Toronto
BEGIN:STANDARD
TZNAME:EST
DTSTART:20241103T020000
TZOFFSETFROM:-0400
TZOFFSETTO:-0500
RDATE:20251102T020000
END:STANDARD
BEGIN:DAYLIGHT
TZNAME:EDT
DTSTART:20240310T020000
TZOFFSETFROM:-0500
TZOFFSETTO:-0400
RDATE:20250309T020000
RDATE:20260308T020000
END:DAYLIGHT
END:VTIMEZONE
BEGIN:VEVENT
UID:c37d17cd-c755-4644-ab9e-f300f29ff5ce
DTSTAMP:20260423T011952Z
CATEGORIES:Rencontre
CLASS:PUBLIC
DESCRIPTION;ALTREP="CID:<FFFF__=0ABBE548DFE235B58f9e8a93d@coffeebean.com>":
 Venez rencontrer le Père Noël à la Pharmacie Jean Coutu de Baie-Saint-Paul
  ! \nNous avons le plaisir d’accueillir le Père Noël pour une journée magi
 que à la pharmacie ! Petits et grands sont invités à venir prendre une mag
 nifique photo avec notre photographe professionnel\, offert 𝗴𝗮𝘂𝘁𝗺𝗻 \nQuand
  ?Le dimanche 8 décembre\, de 13h à 16 h\nOù ?À la Pharmacie Jean Coutu de
  Baie-Saint-Paul\nEn plus de la présence du Père Noël\, des petits cadeaux
  attendent les enfants ! Gros rabais surprises sur nos décorations de Noël
 \, seulement pour cet événement !\nNe manquez pas cette journée festive et
  joyeuse ! Nous avons hâte de vous y voir nombreux !!\nPartager la bonne n
 ouvelle
DTSTART:20241208T180000Z
DTEND:20241208T210000Z
GEO:+47.448036;-70.518738
LOCATION:Pharmacie Jean Coutu de Baie-Saint-Paul
ORGANIZER:
SEQUENCE:1
SUMMARY:Visite du Père Noël
TRANSP:OPAQUE
URL:https://www.baiesaintpaulguide.com/component/icagenda/visite-du-pere-no
 el.html?Itemid=103
END:VEVENT
END:VCALENDAR
