BEGIN:VCALENDAR
VERSION:2.0
PRODID:-//Baie-Saint-Paul Guide//NONSGML kigkonsult.se iCalcreator 2.30.10/
 /
CALSCALE:GREGORIAN
METHOD:PUBLISH
UID:0f564b78-3d47-4788-86bf-c7e03544ac16
X-WR-CALNAME:iCagenda
X-WR-CALDESC:Event Management Extension for Joomla!
X-WR-RELCALID:3E26604A-50F4-4449-8B3E-E4F4932D05B5
X-WR-TIMEZONE:America/Toronto
BEGIN:VTIMEZONE
TZID:America/Toronto
BEGIN:STANDARD
TZNAME:EST
DTSTART:20231105T020000
TZOFFSETFROM:-0400
TZOFFSETTO:-0500
RDATE:20241103T020000
RDATE:20251102T020000
END:STANDARD
BEGIN:DAYLIGHT
TZNAME:EDT
DTSTART:20240310T020000
TZOFFSETFROM:-0500
TZOFFSETTO:-0400
RDATE:20250309T020000
END:DAYLIGHT
END:VTIMEZONE
BEGIN:VEVENT
UID:43338ccd-8a71-4959-abad-5a4e9f6103e1
DTSTAMP:20260423T093205Z
CATEGORIES:Le Festif!
CLASS:PUBLIC
DESCRIPTION;ALTREP="CID:<FFFF__=0ABBE548DFE235B58f9e8a93d@coffeebean.com>":
 Découvrez l'énergie brute et le talent inégalé d'Upchuck lors de leur conc
 ert gratuit au Garage du curé Exclaim! Originaires d'Atlanta\, Upchuck a r
 apidement gravi les échelons de la scène musicale indépendante de la ville
  depuis 2018. Avec des performances à la fois audacieuses et hédonistes\, 
 le groupe a su se démarquer et captiver son public par son style unique.\n
 Le groupe est composé de la chanteuse KT et du guitariste Mikey\, qui se r
 emémorent souvent leurs aventures rocambolesques\, comme celle d'une renco
 ntre fortuite avec un policier d'Atlanta\, fan de leur musique. Leur premi
 er album\, Sense Yourself\, sorti sous le label Famous Class Records\, est
  un mélange explosif de punk\, hip-hop et rock alternatif. Les titres comm
 e 'Boss Up'\, 'In Your Mind'\, et 'Our Skin' débordent d'une énergie conta
 gieuse et d'une urgence palpable\, reflétant les appels du groupe à l'intr
 ospection\, au changement social\, et à l'action. Ne manquez pas cette cha
 nce de voir Upchuck en live et de ressentir l'intensité de leur musique qu
 i incarne à la fois la rébellion et la fête.
DTSTART:20240720T233000Z
DTEND:20240721T003000Z
GEO:+47.440701;-70.50695
LOCATION:Garage du curé Exclaim!
ORGANIZER:
SEQUENCE:1
SUMMARY:Upchuck - Le Festif!
TRANSP:OPAQUE
URL:https://www.baiesaintpaulguide.com/component/icagenda/upchuck-le-festif
 .html?Itemid=103
END:VEVENT
END:VCALENDAR
