BEGIN:VCALENDAR
VERSION:2.0
PRODID:-//Baie-Saint-Paul Guide//NONSGML kigkonsult.se iCalcreator 2.30.10/
 /
CALSCALE:GREGORIAN
METHOD:PUBLISH
UID:68e9cc29-cfcb-49d5-9ed5-e0b7ea14a14b
X-WR-CALNAME:iCagenda
X-WR-CALDESC:Event Management Extension for Joomla!
X-WR-RELCALID:3E26604A-50F4-4449-8B3E-E4F4932D05B5
X-WR-TIMEZONE:America/Toronto
BEGIN:VTIMEZONE
TZID:America/Toronto
BEGIN:STANDARD
TZNAME:EST
DTSTART:20231105T020000
TZOFFSETFROM:-0400
TZOFFSETTO:-0500
RDATE:20241103T020000
RDATE:20251102T020000
END:STANDARD
BEGIN:DAYLIGHT
TZNAME:EDT
DTSTART:20240310T020000
TZOFFSETFROM:-0500
TZOFFSETTO:-0400
RDATE:20250309T020000
RDATE:20260308T020000
END:DAYLIGHT
END:VTIMEZONE
BEGIN:VEVENT
UID:181ee36c-5886-4bc0-8796-272a128a7083
DTSTAMP:20260423T063916Z
CATEGORIES:Tony et Charlo
CLASS:PUBLIC
DESCRIPTION;ALTREP="CID:<FFFF__=0ABBE548DFE235B58f9e8a93d@coffeebean.com>":
 Rejoignez-nous pour une soirée de musique intense et épique pour célébrer 
 l'équinoxe à Baie Saint-Paul en Charlevoix\, à seulement 45 minutes de Qué
 bec.\nBEHOLDER (Lancement du LP DUALISME) \nTRÉPAS : Des musiciens de grou
 pes bien connus du death metal québécois Outre-Tombe et Morgue se réunisse
 nt pour offrir quelque chose de totalement inattendu : un black metal somb
 re et atmosphérique d'une qualité exceptionnelle.\n\nEntrée gratuite\nExce
 llent choix de bières et de spiritueux sur place\n\nNe manquez pas cette s
 oirée exceptionnelle de musique métallique\, où la puissance et l'atmosphè
 re se rencontrent pour une expérience sonore unique.
DTSTART:20240922T010000Z
DTEND:20240922T030000Z
GEO:+47.443443;-70.508095
LOCATION:Tony et Charlo
ORGANIZER:
SEQUENCE:1
SUMMARY:Trépas et Beholder au Tony et Charlo
TRANSP:OPAQUE
URL:https://www.baiesaintpaulguide.com/component/icagenda/trepas-et-beholde
 r-au-tony-et-charlo.html?Itemid=103
END:VEVENT
END:VCALENDAR
