BEGIN:VCALENDAR
VERSION:2.0
PRODID:-//Baie-Saint-Paul Guide//NONSGML kigkonsult.se iCalcreator 2.30.10/
 /
CALSCALE:GREGORIAN
METHOD:PUBLISH
UID:34213e6b-7330-4174-97ce-245da6597f97
X-WR-CALNAME:iCagenda
X-WR-CALDESC:Event Management Extension for Joomla!
X-WR-RELCALID:3E26604A-50F4-4449-8B3E-E4F4932D05B5
X-WR-TIMEZONE:America/Toronto
BEGIN:VTIMEZONE
TZID:America/Toronto
BEGIN:STANDARD
TZNAME:EST
DTSTART:20231105T020000
TZOFFSETFROM:-0400
TZOFFSETTO:-0500
RDATE:20241103T020000
RDATE:20251102T020000
END:STANDARD
BEGIN:DAYLIGHT
TZNAME:EDT
DTSTART:20240310T020000
TZOFFSETFROM:-0500
TZOFFSETTO:-0400
RDATE:20250309T020000
RDATE:20260308T020000
END:DAYLIGHT
END:VTIMEZONE
BEGIN:VEVENT
UID:0b4fae94-34f7-41d4-a5c0-2ce6c16ef7d2
DTSTAMP:20260423T064531Z
CATEGORIES:Compétition sportive
CLASS:PUBLIC
DESCRIPTION;ALTREP="CID:<FFFF__=0ABBE548DFE235B58f9e8a93d@coffeebean.com>":
 Tournoi de balle donnée accueillant 20 équipes de 10 joueurs(ses)\nGrosse 
 fin de semaine en vue.\nDe plus 2 spectacles musicaux Gratuit offert à la 
 population \nVendredi 20:00 : Le groupe Gros Fun Sale\nSamedi 20:00: Mélan
 ie côté\nles ventes recueillis à notre comptoir bar/restauration remis en 
 don à l’organisme les mains de l’espoir.\nOnt vous attends en grand nombre
DTSTART:20240906T220200Z
DTEND:20240908T220200Z
GEO:00;0
LOCATION:Derrière la polyvalente St-Aubin
ORGANIZER:
SEQUENCE:1
SUMMARY:Tournoi de balle donnée le Hyundai Jean-Roch Thibeault
TRANSP:OPAQUE
URL:https://www.baiesaintpaulguide.com/component/icagenda/tournoi-de-balle-
 donnee-le-hyundai-jean-roch-thibeault.html?Itemid=103
END:VEVENT
END:VCALENDAR
