BEGIN:VCALENDAR
VERSION:2.0
PRODID:-//Baie-Saint-Paul Guide//NONSGML kigkonsult.se iCalcreator 2.30.10/
 /
CALSCALE:GREGORIAN
METHOD:PUBLISH
UID:d9dcad85-b627-4d22-b74f-ca9f74ee387b
X-WR-CALNAME:iCagenda
X-WR-CALDESC:Event Management Extension for Joomla!
X-WR-RELCALID:3E26604A-50F4-4449-8B3E-E4F4932D05B5
X-WR-TIMEZONE:America/Toronto
BEGIN:VTIMEZONE
TZID:America/Toronto
BEGIN:STANDARD
TZNAME:EST
DTSTART:20241103T020000
TZOFFSETFROM:-0400
TZOFFSETTO:-0500
RDATE:20251102T020000
END:STANDARD
BEGIN:DAYLIGHT
TZNAME:EDT
DTSTART:20240310T020000
TZOFFSETFROM:-0500
TZOFFSETTO:-0400
RDATE:20250309T020000
RDATE:20260308T020000
END:DAYLIGHT
END:VTIMEZONE
BEGIN:VEVENT
UID:43c3e312-cbbd-4364-8e20-316e21a2a6b2
DTSTAMP:20260423T030609Z
CATEGORIES:Bistro des Balcons
CLASS:PUBLIC
DESCRIPTION;ALTREP="CID:<FFFF__=0ABBE548DFE235B58f9e8a93d@coffeebean.com>":
 Vous aimez le cinéma si mauvais qu’il en devient génial ? Total Crap est f
 ait pour vous ! Venez découvrir une sélection des pires catastrophes télév
 isuelles et cinématographiques jamais produites\, le tout présenté dans un
  montage scratch vidéo hilarant\, agrémenté d’interventions comiques en di
 rect. Simon Lacroix et Pascal Pilote\, les esprits tordus derrière ce phén
 omène culte\, seront présents pour vous offrir plus de deux heures de pure
  absurdité qui mettront votre santé mentale à rude épreuve… mais dans le m
 eilleur des sens !\nPorte: 19hShow: 20hBillets:https://lepointdevente.com/
 billets/rap241121001
DTSTART:20241122T010000Z
DTEND:20241122T030000Z
GEO:+47.438202;-70.505577
LOCATION:Bistro des Balcons
ORGANIZER:
SEQUENCE:1
SUMMARY:Total Crap à Baie St-Paul
TRANSP:OPAQUE
URL:https://www.baiesaintpaulguide.com/component/icagenda/total-crap-a-baie
 -st-paul.html?Itemid=103
END:VEVENT
END:VCALENDAR
