BEGIN:VCALENDAR
VERSION:2.0
PRODID:-//Baie-Saint-Paul Guide//NONSGML kigkonsult.se iCalcreator 2.30.10/
 /
CALSCALE:GREGORIAN
METHOD:PUBLISH
UID:0fece4af-cefe-4510-a768-98b129b9aae0
X-WR-CALNAME:iCagenda
X-WR-CALDESC:Event Management Extension for Joomla!
X-WR-RELCALID:3E26604A-50F4-4449-8B3E-E4F4932D05B5
X-WR-TIMEZONE:America/Toronto
BEGIN:VTIMEZONE
TZID:America/Toronto
BEGIN:STANDARD
TZNAME:EST
DTSTART:20231105T020000
TZOFFSETFROM:-0400
TZOFFSETTO:-0500
RDATE:20241103T020000
RDATE:20251102T020000
END:STANDARD
BEGIN:DAYLIGHT
TZNAME:EDT
DTSTART:20240310T020000
TZOFFSETFROM:-0500
TZOFFSETTO:-0400
RDATE:20250309T020000
END:DAYLIGHT
END:VTIMEZONE
BEGIN:VEVENT
UID:fd007602-d885-4c15-a636-6a2d8a2e9b40
DTSTAMP:20260423T093157Z
CATEGORIES:Animation Baie-Saint-Paul
CLASS:PUBLIC
DESCRIPTION;ALTREP="CID:<FFFF__=0ABBE548DFE235B58f9e8a93d@coffeebean.com>":
 Le duo de bluesmen suisso-mauricien\, The Two\, vous invite à un concert g
 ratuit exceptionnel. Composé de Yannick Nanette et Thierry Jaccard\, ce ta
 ndem unique mêle des influences modernes et créoles à leurs racines solide
 ment ancrées dans le blues des années 20. Leur musique\, qui porte les tra
 ces de voyages et de rencontres improbables\, résonne d’ondes positives et
  de mélodies envoûtantes. Ne manquez pas cette occasion de découvrir leur 
 univers musical riche et émouvant lors de leur première tournée au Québec.
 \nAvec plus de 600 concerts à leur actif\, dont des performances remarquée
 s au Montreux Jazz Festival et en première partie de Johnny Hallyday à l'A
 rena de Genève\, The Two ne cesse de captiver les foules partout où ils se
  produisent. Trois ans après la sortie de leur deuxième album\, Crossedsou
 ls\, ils continuent de tisser des liens sincères avec leur public à traver
 s des concerts intimes et mémorables. Venez vibrer au son de leur blues vi
 brant et laissez-vous emporter par la magie de leur performance lors de ce
  concert gratuit unique en son genre.
DTSTART:20240713T233000Z
DTEND:20240714T010000Z
GEO:+47.441021;-70.506462
LOCATION:Place de l'Église
ORGANIZER:
SEQUENCE:1
SUMMARY:The Two - musique
TRANSP:OPAQUE
URL:https://www.baiesaintpaulguide.com/component/icagenda/the-two-musique.h
 tml?Itemid=103
END:VEVENT
END:VCALENDAR
