BEGIN:VCALENDAR
VERSION:2.0
PRODID:-//Baie-Saint-Paul Guide//NONSGML kigkonsult.se iCalcreator 2.30.10/
 /
CALSCALE:GREGORIAN
METHOD:PUBLISH
UID:d16223c9-e3c9-4910-9854-f09823375d00
X-WR-CALNAME:iCagenda
X-WR-CALDESC:Event Management Extension for Joomla!
X-WR-RELCALID:3E26604A-50F4-4449-8B3E-E4F4932D05B5
X-WR-TIMEZONE:America/Toronto
BEGIN:VTIMEZONE
TZID:America/Toronto
BEGIN:STANDARD
TZNAME:EST
DTSTART:20231105T020000
TZOFFSETFROM:-0400
TZOFFSETTO:-0500
RDATE:20241103T020000
RDATE:20251102T020000
END:STANDARD
BEGIN:DAYLIGHT
TZNAME:EDT
DTSTART:20240310T020000
TZOFFSETFROM:-0500
TZOFFSETTO:-0400
RDATE:20250309T020000
END:DAYLIGHT
END:VTIMEZONE
BEGIN:VEVENT
UID:af8b9501-9b6a-4e91-9235-44b6e5fd5ec0
DTSTAMP:20260423T093151Z
CATEGORIES:Le Festif!
CLASS:PUBLIC
DESCRIPTION;ALTREP="CID:<FFFF__=0ABBE548DFE235B58f9e8a93d@coffeebean.com>":
 Rejoignez TDJ à la Scène SiriusXM à 23h30 pour une performance envoûtante.
  Geneviève Ryan Martel\, alias TDJ\, est une artiste montréalaise qui intè
 gre des sons trance et des mélodies éclectiques dans ses sets de DJ et ses
  EPs. Connue pour ses productions immersives et ses textures audacieuses\,
  TDJ sait captiver son public avec des rythmes entraînants et des mélodies
  nostalgiques.\nInspirée par des icônes comme Tiësto et influencée par ses
  premières expériences musicales\, TDJ a su se démarquer avec son projet a
 ctuel après avoir évolué sous le pseudonyme RYAN Playground. Sa musique\, 
 mélange de mélancolie et de joie\, résonne profondément avec les auditeurs
 . Ne manquez pas l'occasion de vivre cette expérience musicale unique au F
 estif!\nBILLETS
DTSTART:20240719T033000Z
DTEND:20240719T044500Z
GEO:+47.4408;-70.506004
LOCATION:Scène SiriusXM
ORGANIZER:
SEQUENCE:1
SUMMARY:TDJ - Le Festif!
TRANSP:OPAQUE
URL:https://www.baiesaintpaulguide.com/component/icagenda/tdj-le-festif.htm
 l?Itemid=103
END:VEVENT
END:VCALENDAR
