BEGIN:VCALENDAR
VERSION:2.0
PRODID:-//Baie-Saint-Paul Guide//NONSGML kigkonsult.se iCalcreator 2.30.10/
 /
CALSCALE:GREGORIAN
METHOD:PUBLISH
UID:e83f367e-c6b1-4c1e-947f-c36210605193
X-WR-CALNAME:iCagenda
X-WR-CALDESC:Event Management Extension for Joomla!
X-WR-RELCALID:3E26604A-50F4-4449-8B3E-E4F4932D05B5
X-WR-TIMEZONE:America/Toronto
BEGIN:VTIMEZONE
TZID:America/Toronto
BEGIN:STANDARD
TZNAME:EST
DTSTART:20231105T020000
TZOFFSETFROM:-0400
TZOFFSETTO:-0500
RDATE:20241103T020000
RDATE:20251102T020000
END:STANDARD
BEGIN:DAYLIGHT
TZNAME:EDT
DTSTART:20240310T020000
TZOFFSETFROM:-0500
TZOFFSETTO:-0400
RDATE:20250309T020000
END:DAYLIGHT
END:VTIMEZONE
BEGIN:VEVENT
UID:ec5c8153-ef29-44c1-a515-25f81ce835d5
DTSTAMP:20260423T093151Z
CATEGORIES:Animation Baie-Saint-Paul
CLASS:PUBLIC
DESCRIPTION;ALTREP="CID:<FFFF__=0ABBE548DFE235B58f9e8a93d@coffeebean.com>":
 Joignez-vous à nous pour une soirée captivante avec le Spectacle Fuso\, un
  événement gratuit qui promet de remplir l'air de vibes pop-reggae ensolei
 llées. Se déroulant devant l'église\, ce concert en plein air mettra en ve
 dette Fuso\, un artiste dont la musique mélange des rythmes chaleureux ave
 c des influences de ses voyages et de sa passion pour le surf. Originaire 
 de Milly-la-Forêt en France et résident du Québec depuis l'âge de neuf ans
 \, Fuso est devenu une figure appréciée de la scène musicale québécoise. S
 on premier album\, sorti en 2016\, a présenté le hit bilingue 'Rain Is Fal
 ling\,' qui a atteint le Top 15 BDS\, et 'Love\,' un morceau diffusé à l'i
 nternational de Brésil à la Norvège.\nEn 2020\, Fuso a sorti son album fra
 ncophone 'Danser dans la tornade\,' créé en collaboration avec le producte
 ur William Gaboury et R-Management. Cet album explore des thèmes tels que 
 l'amour\, la santé mentale\, la croissance personnelle et la rêverie\, con
 tinuant de démontrer les talents de Fuso en tant qu'auteur-compositeur-int
 erprète. Ne manquez pas cette occasion d'expérimenter la musique feel-good
  de Fuso en direct dans un cadre magnifique et convivial. Amenez vos amis 
 et votre famille pour une nuit de musique inoubliable sous les étoiles.
DTSTART:20240727T233000Z
DTEND:20240728T010000Z
GEO:+47.441021;-70.506462
LOCATION:Place de l'Église
ORGANIZER:
SEQUENCE:1
SUMMARY:Spectacle Fuso
TRANSP:OPAQUE
URL:https://www.baiesaintpaulguide.com/component/icagenda/spectacle-fuso.ht
 ml?Itemid=103
END:VEVENT
END:VCALENDAR
