BEGIN:VCALENDAR
VERSION:2.0
PRODID:-//Baie-Saint-Paul Guide//NONSGML kigkonsult.se iCalcreator 2.30.10/
 /
CALSCALE:GREGORIAN
METHOD:PUBLISH
UID:6d8f6c76-54f9-484e-a905-2e210895c4d5
X-WR-CALNAME:iCagenda
X-WR-CALDESC:Event Management Extension for Joomla!
X-WR-RELCALID:3E26604A-50F4-4449-8B3E-E4F4932D05B5
X-WR-TIMEZONE:America/Toronto
BEGIN:VTIMEZONE
TZID:America/Toronto
BEGIN:STANDARD
TZNAME:EST
DTSTART:20231105T020000
TZOFFSETFROM:-0400
TZOFFSETTO:-0500
RDATE:20241103T020000
RDATE:20251102T020000
END:STANDARD
BEGIN:DAYLIGHT
TZNAME:EDT
DTSTART:20240310T020000
TZOFFSETFROM:-0500
TZOFFSETTO:-0400
RDATE:20250309T020000
END:DAYLIGHT
END:VTIMEZONE
BEGIN:VEVENT
UID:478499ab-82a0-4c66-8c8b-55fb2b60b9f9
DTSTAMP:20260423T093830Z
CATEGORIES:Fête du Canada
CLASS:PUBLIC
DESCRIPTION;ALTREP="CID:<FFFF__=0ABBE548DFE235B58f9e8a93d@coffeebean.com>":
 Rejoignez-nous de 19 h à 20 h pour un spectacle de musique inoubliable ave
 c Trio Mélaman. Ce groupe talentueux saura vous charmer avec leur répertoi
 re varié\, alliant harmonies mélodieuses et rythmes entraînants\, parfaits
  pour célébrer la fête du Canada sous le thème des traditions canadiennes.
 \nLes célébrations de la fête du Canada 2024 sont une occasion unique de d
 écouvrir des talents locaux et de profiter d'une soirée musicale en plein 
 air. Venez nombreux avec vos amis et votre famille pour partager ce moment
  festif!\nIl est interdit d'apporter vos propres boissons alcoolisées sur 
 le site. Un service de bar et de restauration sera offert sur place. En ca
 s de pluie\, les activités auront lieu à l'intérieur de l'aréna Luc-et-Mar
 ie-Claude. Nous vous attendons au parc Saint-Aubin pour une soirée de musi
 que et de convivialité!
DTSTART:20240701T230000Z
DTEND:20240702T000000Z
GEO:+47.439095;-70.51799
LOCATION:Parc Saint-Aubin
ORGANIZER:
SEQUENCE:1
SUMMARY:Spectacle de musique du Trio Mélaman - Fête du Canada
TRANSP:OPAQUE
URL:https://www.baiesaintpaulguide.com/component/icagenda/spectacle-de-musi
 que-du-trio-melaman-fete-du-canada.html?Itemid=103
END:VEVENT
END:VCALENDAR
