BEGIN:VCALENDAR
VERSION:2.0
PRODID:-//Baie-Saint-Paul Guide//NONSGML kigkonsult.se iCalcreator 2.30.10/
 /
CALSCALE:GREGORIAN
METHOD:PUBLISH
UID:fd6579ee-d13d-44c6-b659-2a1b38bd9c56
X-WR-CALNAME:iCagenda
X-WR-CALDESC:Event Management Extension for Joomla!
X-WR-RELCALID:3E26604A-50F4-4449-8B3E-E4F4932D05B5
X-WR-TIMEZONE:America/Toronto
BEGIN:VTIMEZONE
TZID:America/Toronto
BEGIN:STANDARD
TZNAME:EST
DTSTART:20251102T020000
TZOFFSETFROM:-0400
TZOFFSETTO:-0500
RDATE:20261101T020000
END:STANDARD
BEGIN:DAYLIGHT
TZNAME:EDT
DTSTART:20250309T020000
TZOFFSETFROM:-0500
TZOFFSETTO:-0400
RDATE:20260308T020000
RDATE:20270314T020000
END:DAYLIGHT
END:VTIMEZONE
BEGIN:VEVENT
UID:32465651-613f-46b3-91e9-8aae9779eb29
DTSTAMP:20260420T022735Z
CATEGORIES:Soirée
CLASS:PUBLIC
DESCRIPTION;ALTREP="CID:<FFFF__=0ABBE548DFE235B58f9e8a93d@coffeebean.com>":
 \n\n\n \n\n\n\n\n\n\n\n\n\n\n\nVous êtes nombreux à les attendre\, ils ser
 ont avec nous le vendredi\, 27 février !\nRéservez vos places rapidement!
 \nReservation RequiseLes Sabots du Nord\n\n\n\n\n\n\n\n\n
DTSTART:20260227T230000Z
DTEND:20260228T010000Z
GEO:00;0
LOCATION:Restaurant L’incontournable
ORGANIZER:
SEQUENCE:1
SUMMARY:Souper Spectacle - Les Sabots du Nord
TRANSP:OPAQUE
URL:https://www.baiesaintpaulguide.com/component/icagenda/souper-spectacle-
 les-sabots-du-nord.html?Itemid=103
END:VEVENT
END:VCALENDAR
