BEGIN:VCALENDAR
VERSION:2.0
PRODID:-//Baie-Saint-Paul Guide//NONSGML kigkonsult.se iCalcreator 2.30.10/
 /
CALSCALE:GREGORIAN
METHOD:PUBLISH
UID:ee31cb2d-4d43-4fcc-b46a-f08dbeb79bf3
X-WR-CALNAME:iCagenda
X-WR-CALDESC:Event Management Extension for Joomla!
X-WR-RELCALID:3E26604A-50F4-4449-8B3E-E4F4932D05B5
X-WR-TIMEZONE:America/Toronto
BEGIN:VTIMEZONE
TZID:America/Toronto
BEGIN:STANDARD
TZNAME:EST
DTSTART:20241103T020000
TZOFFSETFROM:-0400
TZOFFSETTO:-0500
RDATE:20251102T020000
END:STANDARD
BEGIN:DAYLIGHT
TZNAME:EDT
DTSTART:20240310T020000
TZOFFSETFROM:-0500
TZOFFSETTO:-0400
RDATE:20250309T020000
RDATE:20260308T020000
END:DAYLIGHT
END:VTIMEZONE
BEGIN:VEVENT
UID:d2be5ae7-2cfc-442a-ba66-ea969588871b
DTSTAMP:20260423T030743Z
CATEGORIES:Bistro des Balcons
CLASS:PUBLIC
DESCRIPTION;ALTREP="CID:<FFFF__=0ABBE548DFE235B58f9e8a93d@coffeebean.com>":
 Soirées swing aux Balcons! \nRejoignez Geneviève Boily à 19h30 pour une so
 irée où le jazz et les rythmes des big bands vous feront voyager dans le t
 emps et vous divertir. Venez nombreux.ses pour partager le plaisir de la d
 anse swing\, une danse sociale de couple née à Harlem\, New York\, à la fi
 n des années 1920.\nGRATUIT / OUVERT À TOUS \nCours d'introduction :Appren
 ez les pas de base du swing dans une ambiance conviviale\, et profitez de 
 la soirée!
DTSTART:20241120T003000Z
DTEND:20241120T023000Z
GEO:+47.438202;-70.505577
LOCATION:Auberge & Bistro des Balcons
ORGANIZER:
SEQUENCE:1
SUMMARY:Soirée Swing au Bistro des Balcons
TRANSP:OPAQUE
URL:https://www.baiesaintpaulguide.com/component/icagenda/soiree-swing-au-b
 istro-des-balcons-2.html?Itemid=103
END:VEVENT
END:VCALENDAR
