BEGIN:VCALENDAR
VERSION:2.0
PRODID:-//Baie-Saint-Paul Guide//NONSGML kigkonsult.se iCalcreator 2.30.10/
 /
CALSCALE:GREGORIAN
METHOD:PUBLISH
UID:c8b3f6e2-de64-485f-8e2a-84f506abb4de
X-WR-CALNAME:iCagenda
X-WR-CALDESC:Event Management Extension for Joomla!
X-WR-RELCALID:3E26604A-50F4-4449-8B3E-E4F4932D05B5
X-WR-TIMEZONE:America/Toronto
BEGIN:VTIMEZONE
TZID:America/Toronto
BEGIN:STANDARD
TZNAME:EST
DTSTART:20231105T020000
TZOFFSETFROM:-0400
TZOFFSETTO:-0500
RDATE:20241103T020000
RDATE:20251102T020000
END:STANDARD
BEGIN:DAYLIGHT
TZNAME:EDT
DTSTART:20240310T020000
TZOFFSETFROM:-0500
TZOFFSETTO:-0400
RDATE:20250309T020000
END:DAYLIGHT
END:VTIMEZONE
BEGIN:VEVENT
UID:5601869c-bd32-4380-8005-7a448583fdd1
DTSTAMP:20260423T093320Z
CATEGORIES:Soirée
CLASS:PUBLIC
DESCRIPTION;ALTREP="CID:<FFFF__=0ABBE548DFE235B58f9e8a93d@coffeebean.com>":
 Pour célébrer une dernière soirée avant la fermeture temporaire jusqu’au r
 emontage de notre espace après ce vent festivalesque\, l'équipe du Bar Con
 tent vous convie à une soirée mystique toute en beauté !\n \nConfection d’
 un oeil de protection (matériel fourni)DJ MYSTÈRE - ambiance organique\, e
 cstatic\, surprenante...Miss Christine sera présente pour tirer au TarotCo
 cktails délicieux au menuVos plus beaux habits sont de misePlusieurs surpr
 ises vous attendent…\n \nOn vous requiert de vous laisser emporter par la 
 magie &amp\; on vous promet de doux échanges en contrepartie.\nL’idée derr
 ière cette soirée est d’adresser tous ensemble nos beaux souhaits pour les
  semaines à venir et d'y accorder soins et attention\, mais aussi de danse
 r et de célébrer la beauté et l'art.\nNous ferons un petit Autel pour soul
 igner le tout. Si vous aimeriez y contribuer\, vous pouvez apporter fleurs
  ou autres offrandes symboliques. \nLes plus beaux accoutrements seront so
 ulignés et célébrés !Venez nombreux.ses ! 
DTSTART:20240712T210000Z
DTEND:20240713T000000Z
GEO:+47.440231;-70.505684
LOCATION:Placette Desjardins
ORGANIZER:
SEQUENCE:1
SUMMARY:Soirée Mystique : Bar Content
TRANSP:OPAQUE
URL:https://www.baiesaintpaulguide.com/component/icagenda/soiree-mystique-b
 ar-content.html?Itemid=103
END:VEVENT
END:VCALENDAR
