BEGIN:VCALENDAR
VERSION:2.0
PRODID:-//Baie-Saint-Paul Guide//NONSGML kigkonsult.se iCalcreator 2.30.10/
 /
CALSCALE:GREGORIAN
METHOD:PUBLISH
UID:e4468bd4-596f-47cc-a948-5601df79fe56
X-WR-CALNAME:iCagenda
X-WR-CALDESC:Event Management Extension for Joomla!
X-WR-RELCALID:3E26604A-50F4-4449-8B3E-E4F4932D05B5
X-WR-TIMEZONE:America/Toronto
BEGIN:VTIMEZONE
TZID:America/Toronto
BEGIN:STANDARD
TZNAME:EST
DTSTART:20241103T020000
TZOFFSETFROM:-0400
TZOFFSETTO:-0500
RDATE:20251102T020000
END:STANDARD
BEGIN:DAYLIGHT
TZNAME:EDT
DTSTART:20240310T020000
TZOFFSETFROM:-0500
TZOFFSETTO:-0400
RDATE:20250309T020000
RDATE:20260308T020000
END:DAYLIGHT
END:VTIMEZONE
BEGIN:VEVENT
UID:1cb657ec-35a0-47d2-b5b4-816e542c2aa2
DTSTAMP:20260423T012017Z
CATEGORIES:Marché de Noël de Baie-Saint-Paul
CLASS:PUBLIC
DESCRIPTION;ALTREP="CID:<FFFF__=0ABBE548DFE235B58f9e8a93d@coffeebean.com>":
 Joignez-vous à nous pour une soirée festive et animée au cœur de Baie-Sain
 t-Paul !&nbsp\;\nDJ en direct pour vous faire danser sous les étoiles.Ambi
 ance chaleureuse et féérique du Marché de Noël.Découvrez nos bières artisa
 nales et les saveurs locales.Présenté par Le Saint-Pub et le Marché de Noë
 l de Baie-Saint-Paul.Lieu :Le stationnement du restaurant Le Saint-Pub(Mic
 robrasserie Charlevoix)\nNe manquez pas cette occasion unique de célébrer 
 la saison des fêtes en bonne compagnie !
DTSTART:20241206T220000Z
DTEND:20241206T230000Z
GEO:00;0
LOCATION:Le Saint-Pub - Microbrasserie Charlevoix
ORGANIZER:
SEQUENCE:1
SUMMARY:Soirée DJ - Microbrasserie Charlevoix
TRANSP:OPAQUE
URL:https://www.baiesaintpaulguide.com/component/icagenda/soiree-dj-microbr
 asserie-charlevoix.html?Itemid=103
END:VEVENT
END:VCALENDAR
