BEGIN:VCALENDAR
VERSION:2.0
PRODID:-//Baie-Saint-Paul Guide//NONSGML kigkonsult.se iCalcreator 2.30.10/
 /
CALSCALE:GREGORIAN
METHOD:PUBLISH
UID:b198ee93-e001-4328-8506-1e221908db77
X-WR-CALNAME:iCagenda
X-WR-CALDESC:Event Management Extension for Joomla!
X-WR-RELCALID:3E26604A-50F4-4449-8B3E-E4F4932D05B5
X-WR-TIMEZONE:America/Toronto
BEGIN:VTIMEZONE
TZID:America/Toronto
BEGIN:STANDARD
TZNAME:EST
DTSTART:20241103T020000
TZOFFSETFROM:-0400
TZOFFSETTO:-0500
RDATE:20251102T020000
END:STANDARD
BEGIN:DAYLIGHT
TZNAME:EDT
DTSTART:20240310T020000
TZOFFSETFROM:-0500
TZOFFSETTO:-0400
RDATE:20250309T020000
RDATE:20260308T020000
END:DAYLIGHT
END:VTIMEZONE
BEGIN:VEVENT
UID:d1140543-7c78-4e44-86d5-240e299ac385
DTSTAMP:20260423T030910Z
CATEGORIES:Bistro des Balcons
CLASS:PUBLIC
DESCRIPTION;ALTREP="CID:<FFFF__=0ABBE548DFE235B58f9e8a93d@coffeebean.com>":
 Slim Tony  Lancement de EP avec Snoro \nMaintenant basé à Québec\, Slim To
 ny est un artiste de Baie-Saint-Paul. Adepte de rap et de la culture hip-h
 op dès le début de son adolescence\, il assiste à son premier spectacle de
  rap québ en 2016 à l'occasion d'une prestation de Koriass et Brown Family
 . Ne jurant que par le rap anglophone auparavant\, il commence à écouter d
 u rap québécois et français alors qu'il vit aux États-Unis pour rester con
 necter à sa langue maternelle.Parallèlement\, il commence à écrire dans le
  but d'évacuer pour ensuite y prendre goût et le faire de façon plus assid
 ue. Il s'inspire de son quotidien et de grands artistes qu'il admire tels 
 que Nas\, Jay-Z\, Notorious B.I.G.\, Loud\, Freddie Gibbs\, Lary Kidd et M
 anu Militari.\nAvec le microalbum Produit du terroir en 2021 et son premie
 r album Young Gun en 2023\, Slim Tony nous transporte dans son univers old
  school et boombap\, son sur lequel il a grandi et qui l’agrandement influ
 encé dans sa démarche artistique. Le 1er novembre 2024\, il reviendra à la
  charge avec Dame de coeur\, un deuxième EP de cinq titres qui explore une
  palette d'émotionsplus intime\, abordant des thèmes tels que l'amour\, la
  perte et la quête de soi. Il lancera le projet le 23 novembre au Bistro d
 es Balcons à Baie-Saint-Paul\, où il jouera pour la toute première foisave
 c des musiciens sur scène.\n Billetterie 10$ : https://lepointdevente.com/
 billets/adb241123001\nManque pas ça!
DTSTART:20241124T010000Z
DTEND:20241124T030000Z
GEO:+47.438202;-70.505577
LOCATION:Auberge & Bistro des Balcons
ORGANIZER:
SEQUENCE:1
SUMMARY:Slim Tony & Snoro au Bistro des Balcons
TRANSP:OPAQUE
URL:https://www.baiesaintpaulguide.com/component/icagenda/slim-tony-snoro-a
 u-bistro-des-balcons.html?Itemid=103
END:VEVENT
END:VCALENDAR
