BEGIN:VCALENDAR
VERSION:2.0
PRODID:-//Baie-Saint-Paul Guide//NONSGML kigkonsult.se iCalcreator 2.30.10/
 /
CALSCALE:GREGORIAN
METHOD:PUBLISH
UID:ed5cae82-e230-4e1e-8a93-725bf08509ac
X-WR-CALNAME:iCagenda
X-WR-CALDESC:Event Management Extension for Joomla!
X-WR-RELCALID:3E26604A-50F4-4449-8B3E-E4F4932D05B5
X-WR-TIMEZONE:America/Toronto
BEGIN:VTIMEZONE
TZID:America/Toronto
BEGIN:STANDARD
TZNAME:EST
DTSTART:20231105T020000
TZOFFSETFROM:-0400
TZOFFSETTO:-0500
RDATE:20241103T020000
RDATE:20251102T020000
END:STANDARD
BEGIN:DAYLIGHT
TZNAME:EDT
DTSTART:20240310T020000
TZOFFSETFROM:-0500
TZOFFSETTO:-0400
RDATE:20250309T020000
END:DAYLIGHT
END:VTIMEZONE
BEGIN:VEVENT
UID:245ae5f0-7f47-4fb3-9538-37409f1c5161
DTSTAMP:20260423T093441Z
CATEGORIES:Les Dimanches Musicaux
CLASS:PUBLIC
DESCRIPTION;ALTREP="CID:<FFFF__=0ABBE548DFE235B58f9e8a93d@coffeebean.com>":
 \n\n\nRejoignez-nous pour Saxonata dans le cadre des Dimanches Musicaux\, 
 un concert mettant en vedette la beauté et la virtuosité du saxophone. Plo
 ngez dans un univers sonore riche et captivant\, interprété par des musici
 ens talentueux qui sauront vous envoûter avec leurs mélodies enchanteresse
 s.\nLe prix d'entrée est de 15$ pour l'admission générale\, gratuit pour l
 es enfants de 12 ans et moins\, et 100$ pour la série de 8 concerts. Ne ma
 nquez pas cette occasion unique de passer un dimanche après-midi musical m
 émorable avec Saxonata.\nAchetez des billets en ligne\n\n\n
DTSTART:20240728T150000Z
DTEND:20240728T163000Z
GEO:+47.438519;-70.506439
LOCATION:Chapelle de Maison Mère - Baie-Saint-Paul
ORGANIZER:
SEQUENCE:1
SUMMARY:Saxonata - Les Dimanches Musicaux
TRANSP:OPAQUE
URL:https://www.baiesaintpaulguide.com/component/icagenda/saxonata-les-dima
 nches-musicaux.html?Itemid=103
END:VEVENT
END:VCALENDAR
