BEGIN:VCALENDAR
VERSION:2.0
PRODID:-//Baie-Saint-Paul Guide//NONSGML kigkonsult.se iCalcreator 2.30.10/
 /
CALSCALE:GREGORIAN
METHOD:PUBLISH
UID:d7605056-3210-484d-953c-219e4c27563a
X-WR-CALNAME:iCagenda
X-WR-CALDESC:Event Management Extension for Joomla!
X-WR-RELCALID:3E26604A-50F4-4449-8B3E-E4F4932D05B5
X-WR-TIMEZONE:America/Toronto
BEGIN:VTIMEZONE
TZID:America/Toronto
BEGIN:STANDARD
TZNAME:EST
DTSTART:20231105T020000
TZOFFSETFROM:-0400
TZOFFSETTO:-0500
RDATE:20241103T020000
RDATE:20251102T020000
END:STANDARD
BEGIN:DAYLIGHT
TZNAME:EDT
DTSTART:20240310T020000
TZOFFSETFROM:-0500
TZOFFSETTO:-0400
RDATE:20250309T020000
END:DAYLIGHT
END:VTIMEZONE
BEGIN:VEVENT
UID:5a62cbb8-3778-4e60-8d88-c9c834cf0698
DTSTAMP:20260423T093442Z
CATEGORIES:Le Festif!
CLASS:PUBLIC
DESCRIPTION;ALTREP="CID:<FFFF__=0ABBE548DFE235B58f9e8a93d@coffeebean.com>":
 \n\n\n\nSarahmée\, rappeuse sénégalo-canadienne originaire du Québec\, se 
 produira au Parvis ICI Musique lors du Festif! de Baie-Saint-Paul\, un con
 cert gratuit pour tous les spectateurs. Connue pour son single 'T'as pas c
 ru'\, finaliste au Prix de la chanson SOCAN 2019\, Sarahmée a su s'imposer
  sur la scène musicale avec ses paroles percutantes et son style unique.\n
 \n\n\n\n\n\n\n\n\n\nSœur du chanteur-compositeur Karim Ouellet\, Sarahmée 
 a sorti les EPs Retox en 2011 et Sans détour en 2013 avant de lancer son p
 remier album complet Légitime en 2015. Elle a suivi avec Irréversible en 2
 019\, obtenant une nomination au Prix Félix pour Révélation de l'année au 
 Gala de l'ADISQ 2019. Son clip pour 'Bun Dem'\, réalisé par Caraz\, a égal
 ement été nominé pour la Vidéo de l'année aux Juno Awards 2020. Ne manquez
  pas cette opportunité de découvrir Sarahmée en live\, une artiste qui app
 orte une énergie et une authenticité remarquables à chaque performance.\n
 \n\n\n\n\n
DTSTART:20240720T190000Z
DTEND:20240720T210000Z
GEO:+47.439861;-70.506615
LOCATION:Le Parvis ICI Musique
ORGANIZER:
SEQUENCE:1
SUMMARY:Sarahmée - Le Festif!
TRANSP:OPAQUE
URL:https://www.baiesaintpaulguide.com/component/icagenda/sarahmee-le-festi
 f-3.html?Itemid=103
END:VEVENT
END:VCALENDAR
